BEGIN:VCALENDAR
VERSION:2.0
PRODID:-//Gloucestershire Outdoor Walking Group - ECPv6.15.20//NONSGML v1.0//EN
CALSCALE:GREGORIAN
METHOD:PUBLISH
X-ORIGINAL-URL:https://glosoutdoor.co.uk
X-WR-CALDESC:Events for Gloucestershire Outdoor Walking Group
REFRESH-INTERVAL;VALUE=DURATION:PT1H
X-Robots-Tag:noindex
X-PUBLISHED-TTL:PT1H
BEGIN:VTIMEZONE
TZID:Europe/London
BEGIN:DAYLIGHT
TZOFFSETFROM:+0000
TZOFFSETTO:+0100
TZNAME:BST
DTSTART:20240331T010000
END:DAYLIGHT
BEGIN:STANDARD
TZOFFSETFROM:+0100
TZOFFSETTO:+0000
TZNAME:GMT
DTSTART:20241027T010000
END:STANDARD
BEGIN:DAYLIGHT
TZOFFSETFROM:+0000
TZOFFSETTO:+0100
TZNAME:BST
DTSTART:20250330T010000
END:DAYLIGHT
BEGIN:STANDARD
TZOFFSETFROM:+0100
TZOFFSETTO:+0000
TZNAME:GMT
DTSTART:20251026T010000
END:STANDARD
BEGIN:DAYLIGHT
TZOFFSETFROM:+0000
TZOFFSETTO:+0100
TZNAME:BST
DTSTART:20260329T010000
END:DAYLIGHT
BEGIN:STANDARD
TZOFFSETFROM:+0100
TZOFFSETTO:+0000
TZNAME:GMT
DTSTART:20261025T010000
END:STANDARD
END:VTIMEZONE
BEGIN:VEVENT
DTSTART;VALUE=DATE:20250822
DTEND;VALUE=DATE:20250826
DTSTAMP:20260424T235222
CREATED:20250818T204155Z
LAST-MODIFIED:20250818T204155Z
UID:4926-1755820800-1756166399@glosoutdoor.co.uk
SUMMARY:Camping weekend in Shropshire
DESCRIPTION:This large grassy campsite\, which has an evening bar\, breakfast rolls and a friendly atmosphere\, there are camping pods or it’s just under a two hour drive away\, so you could come and join me for a day if camping is not your thing. The campsite offers easy access to walking along the Longmynd\, possibly The Stiperstones and other hilly routes
URL:https://glosoutdoor.co.uk/event/camping-weekend-in-shropshire/
END:VEVENT
END:VCALENDAR