BEGIN:VCALENDAR
VERSION:2.0
PRODID:-//Gloucestershire Outdoor Walking Group - ECPv6.15.20//NONSGML v1.0//EN
CALSCALE:GREGORIAN
METHOD:PUBLISH
X-ORIGINAL-URL:https://glosoutdoor.co.uk
X-WR-CALDESC:Events for Gloucestershire Outdoor Walking Group
REFRESH-INTERVAL;VALUE=DURATION:PT1H
X-Robots-Tag:noindex
X-PUBLISHED-TTL:PT1H
BEGIN:VTIMEZONE
TZID:Europe/London
BEGIN:DAYLIGHT
TZOFFSETFROM:+0000
TZOFFSETTO:+0100
TZNAME:BST
DTSTART:20240331T010000
END:DAYLIGHT
BEGIN:STANDARD
TZOFFSETFROM:+0100
TZOFFSETTO:+0000
TZNAME:GMT
DTSTART:20241027T010000
END:STANDARD
BEGIN:DAYLIGHT
TZOFFSETFROM:+0000
TZOFFSETTO:+0100
TZNAME:BST
DTSTART:20250330T010000
END:DAYLIGHT
BEGIN:STANDARD
TZOFFSETFROM:+0100
TZOFFSETTO:+0000
TZNAME:GMT
DTSTART:20251026T010000
END:STANDARD
BEGIN:DAYLIGHT
TZOFFSETFROM:+0000
TZOFFSETTO:+0100
TZNAME:BST
DTSTART:20260329T010000
END:DAYLIGHT
BEGIN:STANDARD
TZOFFSETFROM:+0100
TZOFFSETTO:+0000
TZNAME:GMT
DTSTART:20261025T010000
END:STANDARD
END:VTIMEZONE
BEGIN:VEVENT
DTSTART;VALUE=DATE:20251019
DTEND;VALUE=DATE:20251020
DTSTAMP:20260424T165506
CREATED:20250818T210914Z
LAST-MODIFIED:20250820T190032Z
UID:4960-1760832000-1760918399@glosoutdoor.co.uk
SUMMARY:Day walk - Wye Valley Way
DESCRIPTION:The final day walk of the Wye Valley Walk will take us from Brockhampton to the edge of Hereford\, weekends to follow next year. The walk is 8 miles taking us through Capler Camp\, ancient woodland above Fownhope\, and then dropping down to Mordiford\, following the river on the final stretch.
URL:https://glosoutdoor.co.uk/event/day-walk-wye-valley/
CATEGORIES:Activities
END:VEVENT
END:VCALENDAR