BEGIN:VCALENDAR
VERSION:2.0
PRODID:-//Gloucestershire Outdoor Walking Group - ECPv6.15.20//NONSGML v1.0//EN
CALSCALE:GREGORIAN
METHOD:PUBLISH
X-WR-CALNAME:Gloucestershire Outdoor Walking Group
X-ORIGINAL-URL:https://glosoutdoor.co.uk
X-WR-CALDESC:Events for Gloucestershire Outdoor Walking Group
REFRESH-INTERVAL;VALUE=DURATION:PT1H
X-Robots-Tag:noindex
X-PUBLISHED-TTL:PT1H
BEGIN:VTIMEZONE
TZID:Europe/London
BEGIN:DAYLIGHT
TZOFFSETFROM:+0000
TZOFFSETTO:+0100
TZNAME:BST
DTSTART:20230326T010000
END:DAYLIGHT
BEGIN:STANDARD
TZOFFSETFROM:+0100
TZOFFSETTO:+0000
TZNAME:GMT
DTSTART:20231029T010000
END:STANDARD
BEGIN:DAYLIGHT
TZOFFSETFROM:+0000
TZOFFSETTO:+0100
TZNAME:BST
DTSTART:20240331T010000
END:DAYLIGHT
BEGIN:STANDARD
TZOFFSETFROM:+0100
TZOFFSETTO:+0000
TZNAME:GMT
DTSTART:20241027T010000
END:STANDARD
BEGIN:DAYLIGHT
TZOFFSETFROM:+0000
TZOFFSETTO:+0100
TZNAME:BST
DTSTART:20250330T010000
END:DAYLIGHT
BEGIN:STANDARD
TZOFFSETFROM:+0100
TZOFFSETTO:+0000
TZNAME:GMT
DTSTART:20251026T010000
END:STANDARD
END:VTIMEZONE
BEGIN:VEVENT
DTSTART;VALUE=DATE:20240804
DTEND;VALUE=DATE:20240805
DTSTAMP:20260424T111421
CREATED:20240330T181514Z
LAST-MODIFIED:20240330T181514Z
UID:4723-1722729600-1722815999@glosoutdoor.co.uk
SUMMARY:Day walk - Donnington Way (part 2) 10 miles
DESCRIPTION:Episode two of the linear adventure: Wick Rissington to Sherborne. Today’s walking on this epic trail\, visiting a large number of Donnington pubs is 10 miles with hydration opportunities en route and at the end at the Post Office (if we make it in time). Still bring food and drink as it’s SUMMER!
URL:https://glosoutdoor.co.uk/event/day-walk-donnington-way-part-2-10-miles/
CATEGORIES:Activities
END:VEVENT
BEGIN:VEVENT
DTSTART;VALUE=DATE:20240802
DTEND;VALUE=DATE:20240803
DTSTAMP:20260424T111421
CREATED:20240330T181416Z
LAST-MODIFIED:20240330T181416Z
UID:4721-1722556800-1722643199@glosoutdoor.co.uk
SUMMARY:Evening walk
DESCRIPTION:It should be a lovely chance to get out on a summer’s evening though\, so watch this space and fingers crossed for fine weather.
URL:https://glosoutdoor.co.uk/event/evening-walk/
CATEGORIES:Activities
END:VEVENT
BEGIN:VEVENT
DTSTART;VALUE=DATE:20240731
DTEND;VALUE=DATE:20240801
DTSTAMP:20260424T111421
CREATED:20240330T181332Z
LAST-MODIFIED:20240330T181332Z
UID:4719-1722384000-1722470399@glosoutdoor.co.uk
SUMMARY:Morning walk - Northleach 5 miles
DESCRIPTION:A delightful walk heading out from the ‘Old Prison’ cafe at Northleach taking in Hampnett and then heading along the tops with fine views into Wiltshire.
URL:https://glosoutdoor.co.uk/event/morning-walk-northleach-5-miles/
CATEGORIES:Activities
END:VEVENT
BEGIN:VEVENT
DTSTART;VALUE=DATE:20240728
DTEND;VALUE=DATE:20240729
DTSTAMP:20260424T111421
CREATED:20240330T181230Z
LAST-MODIFIED:20240330T181230Z
UID:4717-1722124800-1722211199@glosoutdoor.co.uk
SUMMARY:Day walk - Eastleach Turville 7.5 miles
DESCRIPTION:A walk in a pretty and unspoilt corner of the Cotswolds.
URL:https://glosoutdoor.co.uk/event/day-walk-eastleach-turville-7-5-miles/
CATEGORIES:Activities
END:VEVENT
BEGIN:VEVENT
DTSTART;VALUE=DATE:20240726
DTEND;VALUE=DATE:20240727
DTSTAMP:20260424T111421
CREATED:20240330T181125Z
LAST-MODIFIED:20240330T181125Z
UID:4715-1721952000-1722038399@glosoutdoor.co.uk
SUMMARY:Weekday walk - North Woodchester 4 miles
DESCRIPTION:Lovely circular walk from N Woodchester to Selsley\, over Selsley common and returning via South Woodchester. Super great big views\, of course! 
URL:https://glosoutdoor.co.uk/event/weekday-walk-north-woodchester-4-miles/
CATEGORIES:Activities
END:VEVENT
BEGIN:VEVENT
DTSTART;VALUE=DATE:20240725
DTEND;VALUE=DATE:20240726
DTSTAMP:20260424T111421
CREATED:20240330T181021Z
LAST-MODIFIED:20240330T181021Z
UID:4713-1721865600-1721951999@glosoutdoor.co.uk
SUMMARY:Fish and chip eve walk Leckhampton Hill
DESCRIPTION:There’s nothing like earning your supper!  In between times\, we will take a circuitous route to the top to meet our food\, dine with a view and finally descend to the start. Lovely!
URL:https://glosoutdoor.co.uk/event/fish-and-chip-eve-walk-leckhampton-hill/
CATEGORIES:Activities
END:VEVENT
BEGIN:VEVENT
DTSTART;VALUE=DATE:20240721
DTEND;VALUE=DATE:20240722
DTSTAMP:20260424T111421
CREATED:20240330T180912Z
LAST-MODIFIED:20240330T180912Z
UID:4711-1721520000-1721606399@glosoutdoor.co.uk
SUMMARY:Day walk - Wotton under Edge & North Nibley 9 miles
DESCRIPTION:Ascenic 9 miles with 2 ascents & one steep descent. Optional further ascent of the Tyndale Monument for even better views!
URL:https://glosoutdoor.co.uk/event/day-walk-wotton-under-edge-north-nibley-9-miles/
CATEGORIES:Activities
END:VEVENT
BEGIN:VEVENT
DTSTART;VALUE=DATE:20240718
DTEND;VALUE=DATE:20240719
DTSTAMP:20260424T111421
CREATED:20240330T180815Z
LAST-MODIFIED:20240330T180815Z
UID:4709-1721260800-1721347199@glosoutdoor.co.uk
SUMMARY:Evening walk - Tewkesbury 5 mile walk
DESCRIPTION:Just under 5 miles (7.5km)\, the route goes through the golf course\, climbing to the slightly higher ground for the view to Deerhurst and Odda’s chapel before return along the river and through Bloody Meadow
URL:https://glosoutdoor.co.uk/event/evening-walk-tewkesbury-5-mile-walk/
CATEGORIES:Activities
END:VEVENT
BEGIN:VEVENT
DTSTART;VALUE=DATE:20240714
DTEND;VALUE=DATE:20240715
DTSTAMP:20260424T111421
CREATED:20240330T180714Z
LAST-MODIFIED:20240330T180714Z
UID:4707-1720915200-1721001599@glosoutdoor.co.uk
SUMMARY:Day walk - Moreton & Seizencote 10m
DESCRIPTION:Starting from one of the most impressive Cotswold towns\, the walk involves level field paths which leads to the Sezincote estate. A wonderful undulating Cotswold stretch then passes through the beautiful stone villages of Bourton-on-the-Hill\, Blockley and Batsford. 
URL:https://glosoutdoor.co.uk/event/day-walk-moreton-seizencote-10m/
CATEGORIES:Activities
END:VEVENT
BEGIN:VEVENT
DTSTART;VALUE=DATE:20240704
DTEND;VALUE=DATE:20240705
DTSTAMP:20260424T111421
CREATED:20240330T180617Z
LAST-MODIFIED:20240330T180617Z
UID:4705-1720051200-1720137599@glosoutdoor.co.uk
SUMMARY:Weekday walk - Snowshill-Broadway   8 miles
DESCRIPTION:We walk along the road to get to Broadway Tower\, maybe seeing some Lavender in the fields. From the tower we go down into Broadway\, walk through the village then follow some of the Cotswold Way back to Snowshill.
URL:https://glosoutdoor.co.uk/event/weekday-walk-snowshill-broadway-8-miles/
CATEGORIES:Activities
END:VEVENT
BEGIN:VEVENT
DTSTART;VALUE=DATE:20240630
DTEND;VALUE=DATE:20240701
DTSTAMP:20260424T111421
CREATED:20240330T180316Z
LAST-MODIFIED:20240330T180316Z
UID:4703-1719705600-1719791999@glosoutdoor.co.uk
SUMMARY:Day walk - Wye Valley (part 2) 8 miles
DESCRIPTION:The next leg of the Wye Valley Walk from Whitestone Car Park to Monmouth\, which will be 8 miles\, and mostly riverside\, apart from the first couple of miles\, so an easier walk than the first leg.
URL:https://glosoutdoor.co.uk/event/day-walk-wye-valley-part-2-8-miles/
CATEGORIES:Activities
END:VEVENT
BEGIN:VEVENT
DTSTART;VALUE=DATE:20240627
DTEND;VALUE=DATE:20240628
DTSTAMP:20260424T111421
CREATED:20240330T180212Z
LAST-MODIFIED:20240330T180212Z
UID:4701-1719446400-1719532799@glosoutdoor.co.uk
SUMMARY:Evening walk - Charlton Kings 4-5 miles
DESCRIPTION:A walk around local fields\, tracks\, roads\, lanes and parks taking in points of historic or quirky interest along the way.
URL:https://glosoutdoor.co.uk/event/evening-walk-charlton-kings-4-5-miles/
CATEGORIES:Activities
END:VEVENT
BEGIN:VEVENT
DTSTART;VALUE=DATE:20240623
DTEND;VALUE=DATE:20240624
DTSTAMP:20260424T111421
CREATED:20240330T180056Z
LAST-MODIFIED:20240330T180056Z
UID:4699-1719100800-1719187199@glosoutdoor.co.uk
SUMMARY:Day Walk - Cockleford round10 miles
DESCRIPTION:Wandering here and there taking in the views at Wistley Hill before striking forth for Colesbourne. Bring food\, but opportunity for liquid refuelling along the way at several hostelries.
URL:https://glosoutdoor.co.uk/event/day-walk-cockleford-round10-miles/
CATEGORIES:Activities
END:VEVENT
BEGIN:VEVENT
DTSTART;VALUE=DATE:20240620
DTEND;VALUE=DATE:20240621
DTSTAMP:20260424T111421
CREATED:20240325T214552Z
LAST-MODIFIED:20240325T214552Z
UID:4695-1718841600-1718927999@glosoutdoor.co.uk
SUMMARY:Morning walk - Chalford
DESCRIPTION:4.9 miles Circular walk\, via Eastcombe and Bisley. One valley which has is a bit steep going down and back up the other side.
URL:https://glosoutdoor.co.uk/event/morning-walk-chalford/
CATEGORIES:Activities
END:VEVENT
BEGIN:VEVENT
DTSTART;VALUE=DATE:20240614
DTEND;VALUE=DATE:20240617
DTSTAMP:20260424T111421
CREATED:20240325T214441Z
LAST-MODIFIED:20240325T214441Z
UID:4693-1718323200-1718582399@glosoutdoor.co.uk
SUMMARY:Camping Weekend - The Marches
DESCRIPTION:Camping in the Marches\, that wonderful area between Wales and England.
URL:https://glosoutdoor.co.uk/event/camping-weekend-the-marches/
CATEGORIES:Activities
END:VEVENT
BEGIN:VEVENT
DTSTART;VALUE=DATE:20240613
DTEND;VALUE=DATE:20240614
DTSTAMP:20260424T111421
CREATED:20240325T214336Z
LAST-MODIFIED:20240325T214336Z
UID:4691-1718236800-1718323199@glosoutdoor.co.uk
SUMMARY:Evening walk - Andoversford - 4.5 miles
DESCRIPTION:Make the most of the summer evening with a walk from Andoversford\, \nJoining the Gloucestershire Way the walk climbs via Foxcote\, fine views can be expected before returning via Upper Dowdeswell. 7km – 4.5 miles. Roughly rectangular in shape\, this walk consists of a long steady climb to the top of the Cotswold escarpment\, before dropping back down again.
URL:https://glosoutdoor.co.uk/event/evening-walk-andoversford-4-5-miles-2/
CATEGORIES:Activities
END:VEVENT
BEGIN:VEVENT
DTSTART;VALUE=DATE:20240609
DTEND;VALUE=DATE:20240610
DTSTAMP:20260424T111421
CREATED:20240325T214157Z
LAST-MODIFIED:20240325T214157Z
UID:4689-1717891200-1717977599@glosoutdoor.co.uk
SUMMARY:Day Walk  - Llanthony Priory 10 miles
DESCRIPTION: This wonderful route Climbs Cwm Bwchel to Bal Mawr\, heads along the ridge to Chwarel y Fan and descends to Capel y Ffin. There is a steep climb up to Offa’s Dyke and drop into the Olchon Valley to take in the Red & Black Darren loop\, with an optional scramble. This loop can be left out if the weather on the day is rubbish. Final descent back to Llanthony Priory
URL:https://glosoutdoor.co.uk/event/day-walk-llanthony-priory-10-miles/
CATEGORIES:Activities
END:VEVENT
BEGIN:VEVENT
DTSTART;VALUE=DATE:20240606
DTEND;VALUE=DATE:20240607
DTSTAMP:20260424T111421
CREATED:20240325T214023Z
LAST-MODIFIED:20240325T214023Z
UID:4687-1717632000-1717718399@glosoutdoor.co.uk
SUMMARY:Planning & social
DESCRIPTION:It’s that time of the year when we can get together for an evening and start to assemble the next round of events. . Bring ideas for the next programme or send them in beforehand if unable to join
URL:https://glosoutdoor.co.uk/event/planning-social-2/
CATEGORIES:Activities
END:VEVENT
BEGIN:VEVENT
DTSTART;VALUE=DATE:20240602
DTEND;VALUE=DATE:20240603
DTSTAMP:20260424T111421
CREATED:20240325T213903Z
LAST-MODIFIED:20240325T213903Z
UID:4685-1717286400-1717372799@glosoutdoor.co.uk
SUMMARY:Day walk - Cotswold Water Park\, Latton and Down Ampney
DESCRIPTION:A mixture of tracks\, country lanes\, fields and lanes. Village and waterside scenery and woodland paths with some historic and artistic treats along the way for added enjoyment. A few minor roads with traffic
URL:https://glosoutdoor.co.uk/event/day-walk-cotswold-water-park-latton-and-down-ampney/
CATEGORIES:Activities
END:VEVENT
BEGIN:VEVENT
DTSTART;VALUE=DATE:20240530
DTEND;VALUE=DATE:20240531
DTSTAMP:20260424T111421
CREATED:20240325T213710Z
LAST-MODIFIED:20240325T213710Z
UID:4683-1717027200-1717113599@glosoutdoor.co.uk
SUMMARY:Evening walk 5 miles
DESCRIPTION:A chance to stretch your legs and head out onto the hills or down into the woods
URL:https://glosoutdoor.co.uk/event/evening-walk-5-miles/
CATEGORIES:Activities
END:VEVENT
BEGIN:VEVENT
DTSTART;VALUE=DATE:20240526
DTEND;VALUE=DATE:20240527
DTSTAMP:20260424T111421
CREATED:20240325T213604Z
LAST-MODIFIED:20240325T213604Z
UID:4681-1716681600-1716767999@glosoutdoor.co.uk
SUMMARY:Day walk - Birdlip to Sheepscombe 10.5 miles
DESCRIPTION:A great circular walk heading to Sheepscombe via the Witcombe Reservoir and circuiting back through Beechwoods and Climperwell.
URL:https://glosoutdoor.co.uk/event/day-walk-birdlip-to-sheepscombe-10-5-miles/
CATEGORIES:Activities
END:VEVENT
BEGIN:VEVENT
DTSTART;VALUE=DATE:20240517
DTEND;VALUE=DATE:20240526
DTSTAMP:20260424T111421
CREATED:20240325T213514Z
LAST-MODIFIED:20240325T213514Z
UID:4679-1715904000-1716681599@glosoutdoor.co.uk
SUMMARY:Week away - Isles of Scilly
DESCRIPTION:We will walk the five islands and take boat trips galore! If spaces come up\, he will let us know. If not going\, keep an eye on Facebook for photos of puffins\, seals\, fish and chips\, sea-spray and beaches. Oh…and ice-creams.
URL:https://glosoutdoor.co.uk/event/week-away-isles-of-scilly/
CATEGORIES:Activities
END:VEVENT
BEGIN:VEVENT
DTSTART;VALUE=DATE:20240516
DTEND;VALUE=DATE:20240517
DTSTAMP:20260424T111421
CREATED:20240325T213330Z
LAST-MODIFIED:20240325T213330Z
UID:4677-1715817600-1715903999@glosoutdoor.co.uk
SUMMARY:Evening walk - Battledown 4miles
DESCRIPTION:A 2 hour meander exploring the historic\, and rather exclusive Battledown estate\, over the hills to Ham and a return via fields and allotments. Good views over Cheltenham and beyond and a pub to finish.
URL:https://glosoutdoor.co.uk/event/evening-walk-battledown-4miles/
CATEGORIES:Activities
END:VEVENT
BEGIN:VEVENT
DTSTART;VALUE=DATE:20240514
DTEND;VALUE=DATE:20240515
DTSTAMP:20260424T111421
CREATED:20240325T213217Z
LAST-MODIFIED:20240325T213217Z
UID:4675-1715644800-1715731199@glosoutdoor.co.uk
SUMMARY:Morning walk - Prinknash Abbey to Holcombe 6.5 miles
DESCRIPTION:The walk includes Painswick Beacon\, Spoonbed Farm\, Holcombe House (once a wool merchants)\, Kimsbury Hill Fort and Prinknash Park. 6.5 miles with mainly good paths with seven stiles.
URL:https://glosoutdoor.co.uk/event/morning-walk-prinknash-abbey-to-holcombe-6-5-miles/
CATEGORIES:Activities
END:VEVENT
BEGIN:VEVENT
DTSTART;VALUE=DATE:20240512
DTEND;VALUE=DATE:20240513
DTSTAMP:20260424T111421
CREATED:20240325T213032Z
LAST-MODIFIED:20240325T213032Z
UID:4673-1715472000-1715558399@glosoutdoor.co.uk
SUMMARY:Day walk - Stratford Park to Painswick 8 mile walk + Tewksbury Town Band
DESCRIPTION:The walk is 8 miles taking in the Cotswold Way with a possibility of a pub\, teashop or picnic lunch at Painswick en-route.\nAfterwards the Tewksbury Town Band will be performing at Stratford Park’s band stand until 16:00. Refreshments available at the Leisure centre and drinks at Museum in the Park.
URL:https://glosoutdoor.co.uk/event/day-walk-stratford-park-to-painswick-8-mile-walk-tewksbury-town-band/
CATEGORIES:Activities
END:VEVENT
BEGIN:VEVENT
DTSTART;VALUE=DATE:20240508
DTEND;VALUE=DATE:20240509
DTSTAMP:20260424T111421
CREATED:20240325T212924Z
LAST-MODIFIED:20240325T212924Z
UID:4671-1715126400-1715212799@glosoutdoor.co.uk
SUMMARY:Evening Walk -  Haresfield/ Standish Woods 4.8 miles
DESCRIPTION:We will begin by walking over the beacon to Standish to see the site of the old hospital and return via Standish woods to enjoy the flowers. 6pm start for a lovely evening walk and views.
URL:https://glosoutdoor.co.uk/event/evening-walk-haresfield-standish-woods-4-8-miles/
CATEGORIES:Activities
END:VEVENT
BEGIN:VEVENT
DTSTART;VALUE=DATE:20240505
DTEND;VALUE=DATE:20240506
DTSTAMP:20260424T111421
CREATED:20240325T212753Z
LAST-MODIFIED:20240325T212753Z
UID:4669-1714867200-1714953599@glosoutdoor.co.uk
SUMMARY:Day walk - 5 hills Dursley bluebells 10 miles
DESCRIPTION:Back by popular request! Head out to the hills on this hilly\, but rewarding 10 miles around the peaks of Dursley. It will be bluebell time with swathes of the purple beauties covering the peak and carpeting the wood.
URL:https://glosoutdoor.co.uk/event/day-walk-5-hills-dursley-bluebells-10-miles/
CATEGORIES:Activities
END:VEVENT
BEGIN:VEVENT
DTSTART;VALUE=DATE:20240502
DTEND;VALUE=DATE:20240503
DTSTAMP:20260424T111421
CREATED:20240325T212647Z
LAST-MODIFIED:20240325T212647Z
UID:4667-1714608000-1714694399@glosoutdoor.co.uk
SUMMARY:Evening walk - Golden Heart 4.5 mile walk
DESCRIPTION:We will take in Brimpsfield Park\, the village of Brimpsfield and surrounding countryside with the opportunity for a refreshing beer afterwards at that fine establishment
URL:https://glosoutdoor.co.uk/event/evening-walk-golden-heart-4-5-mile-walk/
CATEGORIES:Activities
END:VEVENT
BEGIN:VEVENT
DTSTART;VALUE=DATE:20240428
DTEND;VALUE=DATE:20240429
DTSTAMP:20260424T111421
CREATED:20240325T212518Z
LAST-MODIFIED:20240325T212518Z
UID:4665-1714262400-1714348799@glosoutdoor.co.uk
SUMMARY:Day walk - Vale of Evesham blossom 10 miles
DESCRIPTION:The Littletons\, in the intensively farmed Vale of Evesham is known for its fruit and vegetables\, and therefore spring blossoms. Today’s walk is going to be wandering through these villages near the Worcs / Warks border. The Vale Heritage Trust has a number of orchards and meadows in the area so expect historic villages\, river views …. A gently undulating walk.
URL:https://glosoutdoor.co.uk/event/day-walk-vale-of-evesham-blossom-10-miles/
CATEGORIES:Activities
END:VEVENT
BEGIN:VEVENT
DTSTART;VALUE=DATE:20240425
DTEND;VALUE=DATE:20240426
DTSTAMP:20260424T111421
CREATED:20240325T212432Z
LAST-MODIFIED:20240325T212432Z
UID:4663-1714003200-1714089599@glosoutdoor.co.uk
SUMMARY:Evening walk - Vine Tree Randwick 4 miles
DESCRIPTION:A chance to enjoy the Randwick bluebell fest! Randwick and Ruscombe. Exploring some lesser used woodland paths with some lovely views. Lots of trees and possibly a sighting of a bluebell…or two.4 miles / 1.5 hrs.
URL:https://glosoutdoor.co.uk/event/evening-walk-vine-tree-randwick-4-miles/
CATEGORIES:Activities
END:VEVENT
END:VCALENDAR