BEGIN:VCALENDAR
VERSION:2.0
PRODID:-//Gloucestershire Outdoor Walking Group - ECPv6.15.20//NONSGML v1.0//EN
CALSCALE:GREGORIAN
METHOD:PUBLISH
X-WR-CALNAME:Gloucestershire Outdoor Walking Group
X-ORIGINAL-URL:https://glosoutdoor.co.uk
X-WR-CALDESC:Events for Gloucestershire Outdoor Walking Group
REFRESH-INTERVAL;VALUE=DURATION:PT1H
X-Robots-Tag:noindex
X-PUBLISHED-TTL:PT1H
BEGIN:VTIMEZONE
TZID:Europe/London
BEGIN:DAYLIGHT
TZOFFSETFROM:+0000
TZOFFSETTO:+0100
TZNAME:BST
DTSTART:20220327T010000
END:DAYLIGHT
BEGIN:STANDARD
TZOFFSETFROM:+0100
TZOFFSETTO:+0000
TZNAME:GMT
DTSTART:20221030T010000
END:STANDARD
BEGIN:DAYLIGHT
TZOFFSETFROM:+0000
TZOFFSETTO:+0100
TZNAME:BST
DTSTART:20230326T010000
END:DAYLIGHT
BEGIN:STANDARD
TZOFFSETFROM:+0100
TZOFFSETTO:+0000
TZNAME:GMT
DTSTART:20231029T010000
END:STANDARD
BEGIN:DAYLIGHT
TZOFFSETFROM:+0000
TZOFFSETTO:+0100
TZNAME:BST
DTSTART:20240331T010000
END:DAYLIGHT
BEGIN:STANDARD
TZOFFSETFROM:+0100
TZOFFSETTO:+0000
TZNAME:GMT
DTSTART:20241027T010000
END:STANDARD
BEGIN:DAYLIGHT
TZOFFSETFROM:+0000
TZOFFSETTO:+0100
TZNAME:BST
DTSTART:20250330T010000
END:DAYLIGHT
BEGIN:STANDARD
TZOFFSETFROM:+0100
TZOFFSETTO:+0000
TZNAME:GMT
DTSTART:20251026T010000
END:STANDARD
END:VTIMEZONE
BEGIN:VEVENT
DTSTART;VALUE=DATE:20240204
DTEND;VALUE=DATE:20240205
DTSTAMP:20260424T162325
CREATED:20231113T205652Z
LAST-MODIFIED:20231113T205652Z
UID:4620-1707004800-1707091199@glosoutdoor.co.uk
SUMMARY:Day walk - Longhope 8 Miles
DESCRIPTION:A delightful 8 miles. heading first to to Abenhall we move on to Flaxley\, Pope’s Hill\, and return via Flaxley Woods
URL:https://glosoutdoor.co.uk/event/day-walk-longhope-8-miles/
CATEGORIES:Activities
END:VEVENT
BEGIN:VEVENT
DTSTART;VALUE=DATE:20240202
DTEND;VALUE=DATE:20240203
DTSTAMP:20260424T162325
CREATED:20231113T205558Z
LAST-MODIFIED:20231113T205558Z
UID:4618-1706832000-1706918399@glosoutdoor.co.uk
SUMMARY:Morning walk - Nympsfield 6 miles
DESCRIPTION:Walk to Owlpen (with its secluded manor house & church)\, up onto Uley Bury Hillfort (for great views) then return along Cotswold Way.
URL:https://glosoutdoor.co.uk/event/morning-walk-nympsfield-6-miles/
CATEGORIES:Activities
END:VEVENT
BEGIN:VEVENT
DTSTART;VALUE=DATE:20240128
DTEND;VALUE=DATE:20240129
DTSTAMP:20260424T162325
CREATED:20231113T205448Z
LAST-MODIFIED:20231113T205448Z
UID:4616-1706400000-1706486399@glosoutdoor.co.uk
SUMMARY:Day walk - Malverns 10 miles
DESCRIPTION:Today’s route covers the southern lumps & bumps (technical term!) of the Malvern Hills. Expect hills and possibly a bit of mud (it is January)\, so a pole recommended. The ascent will be > 2\,000ft.your rewards will include Herefordshire Beacon\, Hangman’s Hill\, Swinford Hill\, Chase End Hill\, Ragged Stone Hill and finally… Midsummer Hill.
URL:https://glosoutdoor.co.uk/event/day-walk-malverns-10-miles/
CATEGORIES:Activities
END:VEVENT
BEGIN:VEVENT
DTSTART;VALUE=DATE:20240119
DTEND;VALUE=DATE:20240127
DTSTAMP:20260424T162325
CREATED:20231113T205348Z
LAST-MODIFIED:20231113T205348Z
UID:4614-1705622400-1706313599@glosoutdoor.co.uk
SUMMARY:Week away or long weekend - Shropshire
DESCRIPTION:To celebrate Burns night\, the group is organising a cottage for a week / long weekend of walking to celebrate the Scottish poet who loved the land
URL:https://glosoutdoor.co.uk/event/week-away-or-long-weekend-shropshire/
CATEGORIES:Activities
END:VEVENT
BEGIN:VEVENT
DTSTART;VALUE=DATE:20240118
DTEND;VALUE=DATE:20240119
DTSTAMP:20260424T162325
CREATED:20231113T205235Z
LAST-MODIFIED:20231113T205235Z
UID:4612-1705536000-1705622399@glosoutdoor.co.uk
SUMMARY:Pub Quiz
DESCRIPTION:New Year means a new chance of winning the pub quiz!! Hopefully\, we can maintain our presence in the Brown Jug pub\, as the group to watch.. Come and help make up some teams and have a fun evening.
URL:https://glosoutdoor.co.uk/event/pub-quiz/
CATEGORIES:Activities
END:VEVENT
BEGIN:VEVENT
DTSTART;VALUE=DATE:20240114
DTEND;VALUE=DATE:20240115
DTSTAMP:20260424T162325
CREATED:20231113T205119Z
LAST-MODIFIED:20231113T205119Z
UID:4610-1705190400-1705276799@glosoutdoor.co.uk
SUMMARY:Day walk - Rodmarton 10 miles
DESCRIPTION:This 10 mile walk circuits through Rodmarton\, Cherington and Culkerton. Option of coffee and cake afterwards towards Frampton Mansell ( a short drive away).
URL:https://glosoutdoor.co.uk/event/day-walk-rodmarton-10-miles/
CATEGORIES:Activities
END:VEVENT
BEGIN:VEVENT
DTSTART;VALUE=DATE:20240107
DTEND;VALUE=DATE:20240108
DTSTAMP:20260424T162325
CREATED:20231113T205030Z
LAST-MODIFIED:20231113T205030Z
UID:4608-1704585600-1704671999@glosoutdoor.co.uk
SUMMARY:Day walk - Purton 7.5 miles
DESCRIPTION:Circular walk across fields to Purton where we will visit the ‘Purton Ship Graveyard also known as Purton hulks . We will follow the towpath \, bordered on one side by the Gloucester and Sharpness canal and River Severn on the other . Returning via Sharpness Docks and fields and farm
URL:https://glosoutdoor.co.uk/event/day-walk-purton-7-5-miles/
CATEGORIES:Activities
END:VEVENT
BEGIN:VEVENT
DTSTART;VALUE=DATE:20240104
DTEND;VALUE=DATE:20240105
DTSTAMP:20260424T162325
CREATED:20231113T204932Z
LAST-MODIFIED:20231113T204932Z
UID:4606-1704326400-1704412799@glosoutdoor.co.uk
SUMMARY:Online New Year quiz
DESCRIPTION:2023 was certainly a year of events. The thing is…can you remember any of them after Christmas has passed? Fill a glass\, find some leftover nibbles and settle down on the sofa for this Social Zoom quiz. Top Prize…the honour of being the winner\,
URL:https://glosoutdoor.co.uk/event/online-new-year-quiz/
CATEGORIES:Activities
END:VEVENT
BEGIN:VEVENT
DTSTART;VALUE=DATE:20231230
DTEND;VALUE=DATE:20231231
DTSTAMP:20260424T162325
CREATED:20231113T204812Z
LAST-MODIFIED:20231113T204812Z
UID:4604-1703894400-1703980799@glosoutdoor.co.uk
SUMMARY:Sat or Sunday Day walk - Elmstone Hardwick
DESCRIPTION:If you fancy a blast of fresh air\, the group is planning to organise a local walk to help settle the turkey (or nut roast)
URL:https://glosoutdoor.co.uk/event/sat-or-sunday-day-walk-elmstone-hardwick/
CATEGORIES:Activities
END:VEVENT
BEGIN:VEVENT
DTSTART;VALUE=DATE:20231228
DTEND;VALUE=DATE:20240105
DTSTAMP:20260424T162325
CREATED:20231113T204704Z
LAST-MODIFIED:20231113T204704Z
UID:4602-1703721600-1704412799@glosoutdoor.co.uk
SUMMARY:New Year Trip - Salcombe
DESCRIPTION:A week away in sunny South Devon with lots of sea air and coastal walks.
URL:https://glosoutdoor.co.uk/event/new-year-trip-salcombe/
CATEGORIES:Activities
END:VEVENT
BEGIN:VEVENT
DTSTART;VALUE=DATE:20231220
DTEND;VALUE=DATE:20231221
DTSTAMP:20260424T162325
CREATED:20231113T204604Z
LAST-MODIFIED:20231113T204604Z
UID:4600-1703030400-1703116799@glosoutdoor.co.uk
SUMMARY:Wed 20th or Friday 22nd Dec Morning walk
DESCRIPTION:A chance to enjoy a 6 mile walk from Painswick with Mulled wine and seasonal nibbles en route.
URL:https://glosoutdoor.co.uk/event/wed-20th-or-friday-22nd-dec-morning-walk/
CATEGORIES:Activities
END:VEVENT
BEGIN:VEVENT
DTSTART;VALUE=DATE:20231217
DTEND;VALUE=DATE:20231218
DTSTAMP:20260424T162325
CREATED:20231113T204515Z
LAST-MODIFIED:20231113T204515Z
UID:4598-1702771200-1702857599@glosoutdoor.co.uk
SUMMARY:Day walk - Shipton/Andoversford 6.7 miles
DESCRIPTION:A leisurely\, beautiful\, circular Cotswold walk through the delightful villages of Shipton and Withington\, following the River Coln between the two.
URL:https://glosoutdoor.co.uk/event/day-walk-shipton-andoversford-6-7-miles/
CATEGORIES:Activities
END:VEVENT
BEGIN:VEVENT
DTSTART;VALUE=DATE:20231214
DTEND;VALUE=DATE:20231215
DTSTAMP:20260424T162325
CREATED:20231113T204417Z
LAST-MODIFIED:20231113T204417Z
UID:4596-1702512000-1702598399@glosoutdoor.co.uk
SUMMARY:Evening Theatre - Panto
DESCRIPTION:It’s Mother Goose at the Everyman in Cheltenham!
URL:https://glosoutdoor.co.uk/event/evening-theatre-panto/
CATEGORIES:Activities
END:VEVENT
BEGIN:VEVENT
DTSTART;VALUE=DATE:20231210
DTEND;VALUE=DATE:20231211
DTSTAMP:20260424T162325
CREATED:20231113T204333Z
LAST-MODIFIED:20231113T204333Z
UID:4594-1702166400-1702252799@glosoutdoor.co.uk
SUMMARY:Day walk - Bredon Hill 9 miles
DESCRIPTION:Fantastic route from Elmley Castle round to Great Comberton before a stiff climb up to the top\, then back around to Elmley Castle. Chocolate Box cottages galore\, and pretty sure there’s a pub in the village
URL:https://glosoutdoor.co.uk/event/day-walk-bredon-hill-9-miles/
CATEGORIES:Activities
END:VEVENT
BEGIN:VEVENT
DTSTART;VALUE=DATE:20231209
DTEND;VALUE=DATE:20231210
DTSTAMP:20260424T162325
CREATED:20231113T203420Z
LAST-MODIFIED:20231113T211249Z
UID:4592-1702080000-1702166399@glosoutdoor.co.uk
SUMMARY:Ceilidh - Stroud
DESCRIPTION:
URL:https://glosoutdoor.co.uk/event/ceilidh-stroud/
CATEGORIES:Activities
END:VEVENT
BEGIN:VEVENT
DTSTART;VALUE=DATE:20231208
DTEND;VALUE=DATE:20231209
DTSTAMP:20260424T162325
CREATED:20231113T203133Z
LAST-MODIFIED:20231113T211409Z
UID:4589-1701993600-1702079999@glosoutdoor.co.uk
SUMMARY:GOG Christmas Meal
DESCRIPTION:A chance to let your hair down\, don a Christmas Jumper and swap Present ideas for relatives at the GOG Christmas dinner.
URL:https://glosoutdoor.co.uk/event/gog-christmas-meal/
CATEGORIES:Activities
END:VEVENT
BEGIN:VEVENT
DTSTART;VALUE=DATE:20231208
DTEND;VALUE=DATE:20231209
DTSTAMP:20260424T162325
CREATED:20231113T202948Z
LAST-MODIFIED:20231113T202948Z
UID:4587-1701993600-1702079999@glosoutdoor.co.uk
SUMMARY:Morning walk - St Cyr’s 4.5 miles
DESCRIPTION:Easy circular route from the Church the Ocean by the Church to Eastington and return via Stanley Downton.
URL:https://glosoutdoor.co.uk/event/morning-walk-st-cyrs-4-5-miles/
CATEGORIES:Activities
END:VEVENT
BEGIN:VEVENT
DTSTART;VALUE=DATE:20231203
DTEND;VALUE=DATE:20231204
DTSTAMP:20260424T162325
CREATED:20231113T202501Z
LAST-MODIFIED:20231113T202501Z
UID:4585-1701561600-1701647999@glosoutdoor.co.uk
SUMMARY:Day walk- Cricklade 5.5 miles
DESCRIPTION:An easy 5.5mile ramble across water-meadows beside the river Thames and disused canals today with probably some sightings of a number of water fowl! Depending on interest we might take the chance to visit the medieval stained glass windows in Fairford parish church\, the only complete set in the U.K
URL:https://glosoutdoor.co.uk/event/day-walk-cricklade-5-5-miles/
CATEGORIES:Activities
END:VEVENT
BEGIN:VEVENT
DTSTART;VALUE=DATE:20231130
DTEND;VALUE=DATE:20231201
DTSTAMP:20260424T162325
CREATED:20230726T200058Z
LAST-MODIFIED:20230726T200058Z
UID:4507-1701302400-1701388799@glosoutdoor.co.uk
SUMMARY:Evening pub quiz - Brown Jug\, Cheltenham
DESCRIPTION:Come and help make up some teams and have a fun evening. No need for any late night revision beforehand as who knows which topics will come up! Food available at the pub
URL:https://glosoutdoor.co.uk/event/evening-pub-quiz-brown-jug-cheltenham-2/
CATEGORIES:Activities
END:VEVENT
BEGIN:VEVENT
DTSTART;VALUE=DATE:20231126
DTEND;VALUE=DATE:20231127
DTSTAMP:20260424T162325
CREATED:20230726T200658Z
LAST-MODIFIED:20231113T202146Z
UID:4517-1700956800-1701043199@glosoutdoor.co.uk
SUMMARY:Day Walk The 5 peaks of Dursley 10 miles
DESCRIPTION:Head out to the hills on this hilly\, but rewarding 10 miles around the peaks of Dursley. It will be Autumn with trees in full splendour displaying reds and purples through to yellows and orange.
URL:https://glosoutdoor.co.uk/event/ay-walk-forest-of-dean-industry-adventure-10-miles/
CATEGORIES:Activities
END:VEVENT
BEGIN:VEVENT
DTSTART;VALUE=DATE:20231119
DTEND;VALUE=DATE:20231120
DTSTAMP:20260424T162325
CREATED:20230726T200544Z
LAST-MODIFIED:20231113T202311Z
UID:4515-1700352000-1700438399@glosoutdoor.co.uk
SUMMARY:Day walk - Painswick 10 miles
DESCRIPTION:A figure of eight – the morning walk will take in a short stretch of the Cotswold Way\, Painswick Beacon\, and meander towards Pitchcombe and thence back again by a slice of the Cotswold Way to Painswick and the  afternoon will entail a stroll on the other side of Painswick\, reaching Sheepscombe\, and then up a steep hill (commanding views) and thru Lord’s and Lady’s woods to follow the Painswick stream back to the start.
URL:https://glosoutdoor.co.uk/event/day-walk-painswick/
CATEGORIES:Activities
END:VEVENT
BEGIN:VEVENT
DTSTART;VALUE=DATE:20231112
DTEND;VALUE=DATE:20231113
DTSTAMP:20260424T162325
CREATED:20230726T200500Z
LAST-MODIFIED:20230726T200500Z
UID:4513-1699747200-1699833599@glosoutdoor.co.uk
SUMMARY:Day walk - Kingscote 9.5 miles
DESCRIPTION:Heading out from Kingscote off the A46 SW of Nailsworth\, this pretty circular takes us past the old Motte at Lasborough and on to Leighterton where the Royal Oak pub is sited\, steeped in history and dating from the 1700s. From there we wind through the valley towards Lasborough Park before heading back to the start.
URL:https://glosoutdoor.co.uk/event/day-walk-kingscote-9-5-miles/
CATEGORIES:Activities
END:VEVENT
BEGIN:VEVENT
DTSTART;VALUE=DATE:20231109
DTEND;VALUE=DATE:20231110
DTSTAMP:20260424T162325
CREATED:20230726T200343Z
LAST-MODIFIED:20230726T200343Z
UID:4511-1699488000-1699574399@glosoutdoor.co.uk
SUMMARY:Evening meal - Zizzi
DESCRIPTION:For the best venue for the best pizza\, join us at Zizzis in Montpelier. This converted Church has a great vibe and good range of Italian dishes
URL:https://glosoutdoor.co.uk/event/evening-meal-zizzi/
CATEGORIES:Activities
END:VEVENT
BEGIN:VEVENT
DTSTART;VALUE=DATE:20231105
DTEND;VALUE=DATE:20231106
DTSTAMP:20260424T162325
CREATED:20230726T200247Z
LAST-MODIFIED:20230726T200247Z
UID:4509-1699142400-1699228799@glosoutdoor.co.uk
SUMMARY:Day walk - Forest of Dean
DESCRIPTION:A lovely autumn walk with colours to boot. Starting from the arboretum near Speech House\, this forest adventure walk wends it way south to the oakwoods of the RSPB reserve at Nagshead\, before turning east to New Fancy and the long Spruce ride back to the arboretum
URL:https://glosoutdoor.co.uk/event/day-walk-forest-of-dean/
CATEGORIES:Activities
END:VEVENT
BEGIN:VEVENT
DTSTART;VALUE=DATE:20231026
DTEND;VALUE=DATE:20231027
DTSTAMP:20260424T162325
CREATED:20230726T195931Z
LAST-MODIFIED:20230726T195931Z
UID:4505-1698278400-1698364799@glosoutdoor.co.uk
SUMMARY:Evening pub quiz - Brown Jug Cheltenham
DESCRIPTION:Come and help make up some teams and have a fun evening. No need for any late night revision beforehand as who knows which topics will come up! Food available at the pub
URL:https://glosoutdoor.co.uk/event/evening-pub-quiz-brown-jug-cheltenham/
CATEGORIES:Activities
END:VEVENT
BEGIN:VEVENT
DTSTART;VALUE=DATE:20231022
DTEND;VALUE=DATE:20231023
DTSTAMP:20260424T162325
CREATED:20230726T195814Z
LAST-MODIFIED:20230726T195814Z
UID:4503-1697932800-1698019199@glosoutdoor.co.uk
SUMMARY:Day walk- Cleeve Hill and Villages
DESCRIPTION:A walk starting on the top of Cleeve Hill and heading first East to Hawling and then back south west to Whittington before returning to the start
URL:https://glosoutdoor.co.uk/event/day-walk-cleeve-hill-and-villages/
CATEGORIES:Activities
END:VEVENT
BEGIN:VEVENT
DTSTART;VALUE=DATE:20231019
DTEND;VALUE=DATE:20231020
DTSTAMP:20260424T162325
CREATED:20230726T195651Z
LAST-MODIFIED:20230726T195651Z
UID:4501-1697673600-1697759999@glosoutdoor.co.uk
SUMMARY:Curry night - Indian Brasserie
DESCRIPTION:Southern Indian\, Balti and familiar tandoori favourites are on offer tonight at the ‘The Indian Brasserie’ on the Bath Road in Cheltenham
URL:https://glosoutdoor.co.uk/event/curry-night-indian-brasserie/
CATEGORIES:Activities
END:VEVENT
BEGIN:VEVENT
DTSTART;VALUE=DATE:20231015
DTEND;VALUE=DATE:20231016
DTSTAMP:20260424T162325
CREATED:20230726T195605Z
LAST-MODIFIED:20230726T195605Z
UID:4499-1697328000-1697414399@glosoutdoor.co.uk
SUMMARY:Day walk - Wainlodes and Sandhurst
DESCRIPTION:The walk will take us over Sandhurst Hill to Willington\, the Leigh and return via the historic Coombe Hill Canal where there is lots of wetland wildlife to spot.
URL:https://glosoutdoor.co.uk/event/day-walk-wainlodes-and-sandhurst/
CATEGORIES:Activities
END:VEVENT
BEGIN:VEVENT
DTSTART;VALUE=DATE:20231012
DTEND;VALUE=DATE:20231013
DTSTAMP:20260424T162325
CREATED:20230726T195456Z
LAST-MODIFIED:20230726T195456Z
UID:4497-1697068800-1697155199@glosoutdoor.co.uk
SUMMARY:AGM and planning social
DESCRIPTION:Probably the most important evening of the year! This is where we will need to decide the new committee for the next year as well as line up some activities for over the Winter months. Gog Committee members can only be in post for 3 years so we will need some willing volunteers to take on a role this year (You can do it!) It’s not for life-minimum 12 months- but it ensures the club keeps going! We also need some ideas for the Winter programme.
URL:https://glosoutdoor.co.uk/event/agm-and-planning-social/
CATEGORIES:Activities
END:VEVENT
BEGIN:VEVENT
DTSTART;VALUE=DATE:20231008
DTEND;VALUE=DATE:20231009
DTSTAMP:20260424T162325
CREATED:20230726T195406Z
LAST-MODIFIED:20230726T195406Z
UID:4494-1696723200-1696809599@glosoutdoor.co.uk
SUMMARY:Day Walk '5 peaks' - Dursley
DESCRIPTION:Head out to the hills on this hilly\, but rewarding 10 miles around the peaks of Dursley. It will be Autumn with trees in full splendour displaying reds and purples through to yellows and orange.. With lunch at Coaley Peak\, there is also a possibility of the pub at Nympsfield and the Bank cafe in Dursley at the end.
URL:https://glosoutdoor.co.uk/event/day-walk-5-peaks-dursley/
CATEGORIES:Activities
END:VEVENT
END:VCALENDAR