BEGIN:VCALENDAR
VERSION:2.0
PRODID:-//Gloucestershire Outdoor Walking Group - ECPv6.15.20//NONSGML v1.0//EN
CALSCALE:GREGORIAN
METHOD:PUBLISH
X-WR-CALNAME:Gloucestershire Outdoor Walking Group
X-ORIGINAL-URL:https://glosoutdoor.co.uk
X-WR-CALDESC:Events for Gloucestershire Outdoor Walking Group
REFRESH-INTERVAL;VALUE=DURATION:PT1H
X-Robots-Tag:noindex
X-PUBLISHED-TTL:PT1H
BEGIN:VTIMEZONE
TZID:Europe/London
BEGIN:DAYLIGHT
TZOFFSETFROM:+0000
TZOFFSETTO:+0100
TZNAME:BST
DTSTART:20220327T010000
END:DAYLIGHT
BEGIN:STANDARD
TZOFFSETFROM:+0100
TZOFFSETTO:+0000
TZNAME:GMT
DTSTART:20221030T010000
END:STANDARD
BEGIN:DAYLIGHT
TZOFFSETFROM:+0000
TZOFFSETTO:+0100
TZNAME:BST
DTSTART:20230326T010000
END:DAYLIGHT
BEGIN:STANDARD
TZOFFSETFROM:+0100
TZOFFSETTO:+0000
TZNAME:GMT
DTSTART:20231029T010000
END:STANDARD
BEGIN:DAYLIGHT
TZOFFSETFROM:+0000
TZOFFSETTO:+0100
TZNAME:BST
DTSTART:20240331T010000
END:DAYLIGHT
BEGIN:STANDARD
TZOFFSETFROM:+0100
TZOFFSETTO:+0000
TZNAME:GMT
DTSTART:20241027T010000
END:STANDARD
END:VTIMEZONE
BEGIN:VEVENT
DTSTART;VALUE=DATE:20231105
DTEND;VALUE=DATE:20231106
DTSTAMP:20260424T203939
CREATED:20230726T200247Z
LAST-MODIFIED:20230726T200247Z
UID:4509-1699142400-1699228799@glosoutdoor.co.uk
SUMMARY:Day walk - Forest of Dean
DESCRIPTION:A lovely autumn walk with colours to boot. Starting from the arboretum near Speech House\, this forest adventure walk wends it way south to the oakwoods of the RSPB reserve at Nagshead\, before turning east to New Fancy and the long Spruce ride back to the arboretum
URL:https://glosoutdoor.co.uk/event/day-walk-forest-of-dean/
CATEGORIES:Activities
END:VEVENT
BEGIN:VEVENT
DTSTART;VALUE=DATE:20231026
DTEND;VALUE=DATE:20231027
DTSTAMP:20260424T203939
CREATED:20230726T195931Z
LAST-MODIFIED:20230726T195931Z
UID:4505-1698278400-1698364799@glosoutdoor.co.uk
SUMMARY:Evening pub quiz - Brown Jug Cheltenham
DESCRIPTION:Come and help make up some teams and have a fun evening. No need for any late night revision beforehand as who knows which topics will come up! Food available at the pub
URL:https://glosoutdoor.co.uk/event/evening-pub-quiz-brown-jug-cheltenham/
CATEGORIES:Activities
END:VEVENT
BEGIN:VEVENT
DTSTART;VALUE=DATE:20231022
DTEND;VALUE=DATE:20231023
DTSTAMP:20260424T203939
CREATED:20230726T195814Z
LAST-MODIFIED:20230726T195814Z
UID:4503-1697932800-1698019199@glosoutdoor.co.uk
SUMMARY:Day walk- Cleeve Hill and Villages
DESCRIPTION:A walk starting on the top of Cleeve Hill and heading first East to Hawling and then back south west to Whittington before returning to the start
URL:https://glosoutdoor.co.uk/event/day-walk-cleeve-hill-and-villages/
CATEGORIES:Activities
END:VEVENT
BEGIN:VEVENT
DTSTART;VALUE=DATE:20231019
DTEND;VALUE=DATE:20231020
DTSTAMP:20260424T203939
CREATED:20230726T195651Z
LAST-MODIFIED:20230726T195651Z
UID:4501-1697673600-1697759999@glosoutdoor.co.uk
SUMMARY:Curry night - Indian Brasserie
DESCRIPTION:Southern Indian\, Balti and familiar tandoori favourites are on offer tonight at the ‘The Indian Brasserie’ on the Bath Road in Cheltenham
URL:https://glosoutdoor.co.uk/event/curry-night-indian-brasserie/
CATEGORIES:Activities
END:VEVENT
BEGIN:VEVENT
DTSTART;VALUE=DATE:20231015
DTEND;VALUE=DATE:20231016
DTSTAMP:20260424T203939
CREATED:20230726T195605Z
LAST-MODIFIED:20230726T195605Z
UID:4499-1697328000-1697414399@glosoutdoor.co.uk
SUMMARY:Day walk - Wainlodes and Sandhurst
DESCRIPTION:The walk will take us over Sandhurst Hill to Willington\, the Leigh and return via the historic Coombe Hill Canal where there is lots of wetland wildlife to spot.
URL:https://glosoutdoor.co.uk/event/day-walk-wainlodes-and-sandhurst/
CATEGORIES:Activities
END:VEVENT
BEGIN:VEVENT
DTSTART;VALUE=DATE:20231012
DTEND;VALUE=DATE:20231013
DTSTAMP:20260424T203939
CREATED:20230726T195456Z
LAST-MODIFIED:20230726T195456Z
UID:4497-1697068800-1697155199@glosoutdoor.co.uk
SUMMARY:AGM and planning social
DESCRIPTION:Probably the most important evening of the year! This is where we will need to decide the new committee for the next year as well as line up some activities for over the Winter months. Gog Committee members can only be in post for 3 years so we will need some willing volunteers to take on a role this year (You can do it!) It’s not for life-minimum 12 months- but it ensures the club keeps going! We also need some ideas for the Winter programme.
URL:https://glosoutdoor.co.uk/event/agm-and-planning-social/
CATEGORIES:Activities
END:VEVENT
BEGIN:VEVENT
DTSTART;VALUE=DATE:20231008
DTEND;VALUE=DATE:20231009
DTSTAMP:20260424T203939
CREATED:20230726T195406Z
LAST-MODIFIED:20230726T195406Z
UID:4494-1696723200-1696809599@glosoutdoor.co.uk
SUMMARY:Day Walk '5 peaks' - Dursley
DESCRIPTION:Head out to the hills on this hilly\, but rewarding 10 miles around the peaks of Dursley. It will be Autumn with trees in full splendour displaying reds and purples through to yellows and orange.. With lunch at Coaley Peak\, there is also a possibility of the pub at Nympsfield and the Bank cafe in Dursley at the end.
URL:https://glosoutdoor.co.uk/event/day-walk-5-peaks-dursley/
CATEGORIES:Activities
END:VEVENT
BEGIN:VEVENT
DTSTART;VALUE=DATE:20231005
DTEND;VALUE=DATE:20231006
DTSTAMP:20260424T203939
CREATED:20230726T195235Z
LAST-MODIFIED:20230726T195235Z
UID:4492-1696464000-1696550399@glosoutdoor.co.uk
SUMMARY:Morning walk - Cleeve Hill
DESCRIPTION:A hearty 6-miles morning circuit from Cleeve Hill with good views off to the Malverns and options of a coffee and cake (or lunch??) at the club house.
URL:https://glosoutdoor.co.uk/event/morning-walk-cleeve-hill/
CATEGORIES:Activities
END:VEVENT
BEGIN:VEVENT
DTSTART;VALUE=DATE:20230922
DTEND;VALUE=DATE:20230930
DTSTAMP:20260424T203939
CREATED:20230726T195126Z
LAST-MODIFIED:20230726T195126Z
UID:4490-1695340800-1696031999@glosoutdoor.co.uk
SUMMARY:Lake District Week
DESCRIPTION:A week away in wonderful Eskdale in the lake district.
URL:https://glosoutdoor.co.uk/event/lake-district-week/
CATEGORIES:Activities
END:VEVENT
BEGIN:VEVENT
DTSTART;VALUE=DATE:20230921
DTEND;VALUE=DATE:20230922
DTSTAMP:20260424T203939
CREATED:20230726T194955Z
LAST-MODIFIED:20230726T194955Z
UID:4488-1695254400-1695340799@glosoutdoor.co.uk
SUMMARY:Theatre Evening -  'Full Monty
DESCRIPTION:In Simon Beufoy’s heartfelt play about a group of lads trying to regain their dignity and pride by forming their own\, risque\, entertainment group. If you saw the original film\, this musical version makes the most of the music of the 90s and is full of the same laughs and heartbreaks.
URL:https://glosoutdoor.co.uk/event/theatre-evening-full-monty/
CATEGORIES:Activities
END:VEVENT
BEGIN:VEVENT
DTSTART;VALUE=DATE:20230917
DTEND;VALUE=DATE:20230918
DTSTAMP:20260424T203939
CREATED:20230725T205450Z
LAST-MODIFIED:20230725T205450Z
UID:4486-1694908800-1694995199@glosoutdoor.co.uk
SUMMARY:Day walk - Ledbury
DESCRIPTION:A 9.5 mile walk from Colwall\, in the Malverns\, without climbing the main Malvern ridge. The circuit overlaps a previous walk that proved very popular with the group. This time\, we revisit Coddington vineyard\, and climb Oyster Hill\, with views across to the Malverns\, and Black Mountains . To ring the changes\, the start is from Colwall\, where there will be some new sections through orchards near the village.
URL:https://glosoutdoor.co.uk/event/day-walk-ledbury/
CATEGORIES:Activities
END:VEVENT
BEGIN:VEVENT
DTSTART;VALUE=DATE:20230910
DTEND;VALUE=DATE:20230911
DTSTAMP:20260424T203939
CREATED:20230725T205405Z
LAST-MODIFIED:20230725T205405Z
UID:4484-1694304000-1694390399@glosoutdoor.co.uk
SUMMARY:Day Walk - Stratford Park to Painswick walk plus the Adelphi Dance Band
DESCRIPTION:A walk followed by some fabulous music and a chance to put your dancing shoes on!. Today’s walk is a glorious 8 miles taking in the Cotswold Way and Painswick where there are options for a teashop\, pub or picnic lunch. \nAfterwards\, on our return\, the Adelphi Dance Band will be performing at Stratford Park’s band stand until 4:30pm providing a chance to settle in and listen or get up and move a bit more!
URL:https://glosoutdoor.co.uk/event/day-walk-stratford-park-to-painswick-walk-plus-the-adelphi-dance-band/
CATEGORIES:Activities
END:VEVENT
BEGIN:VEVENT
DTSTART;VALUE=DATE:20230907
DTEND;VALUE=DATE:20230908
DTSTAMP:20260424T203939
CREATED:20230725T205247Z
LAST-MODIFIED:20230725T205247Z
UID:4482-1694044800-1694131199@glosoutdoor.co.uk
SUMMARY:Morning walk - Prinknash Abbey to Holcombe
DESCRIPTION:Today’s walk takes in Painswick Beacon\, Spoonbed Farm\, Holcombe House (once a wool merchants)\, Kimsbury Hill Fort and Prinknash Park. 6.5 miles in total with mainly good paths and seven stiles.
URL:https://glosoutdoor.co.uk/event/morning-walk-prinknash-abbey-to-holcombe/
CATEGORIES:Activities
END:VEVENT
BEGIN:VEVENT
DTSTART;VALUE=DATE:20230903
DTEND;VALUE=DATE:20230904
DTSTAMP:20260424T203939
CREATED:20230725T205156Z
LAST-MODIFIED:20230725T205156Z
UID:4480-1693699200-1693785599@glosoutdoor.co.uk
SUMMARY:Day walk - Chedworth/ Rendcombe
DESCRIPTION:Come and join for a great circuit over the hills and far away. Lunch and cake stop on offer at the National Trust Roman villa for those so inclined\, before heading back to the start
URL:https://glosoutdoor.co.uk/event/day-walk-chedworth-rendcombe/
CATEGORIES:Activities
END:VEVENT
BEGIN:VEVENT
DTSTART;VALUE=DATE:20230901
DTEND;VALUE=DATE:20230902
DTSTAMP:20260424T203939
CREATED:20230725T205112Z
LAST-MODIFIED:20230725T205556Z
UID:4478-1693526400-1693612799@glosoutdoor.co.uk
SUMMARY:Morning walk - Miserden
DESCRIPTION:a lovely Circular out from the ever-popular Miserden towards the Whiteway\, returning via Caudle Green and Miserden Park. The choice between the pub and the Garden centre tea room is a tricky one…but only one sells lunch and beer and the other sells cake. Coin anyone?
URL:https://glosoutdoor.co.uk/event/morning-walk-miserden/
CATEGORIES:Activities
END:VEVENT
BEGIN:VEVENT
DTSTART;VALUE=DATE:20230824
DTEND;VALUE=DATE:20230829
DTSTAMP:20260424T203939
CREATED:20230725T204815Z
LAST-MODIFIED:20230725T204815Z
UID:4476-1692835200-1693267199@glosoutdoor.co.uk
SUMMARY:Camping - Hay on Wye
DESCRIPTION:Enjoy a Bank holiday trip to Hay on Wye on this camping adventure! Hay is perfect for browsing around bookshops\, enjoying a coffee shop and starting a number of fine walks including up to Hay Bluff\, following the mighty river to Glasbury or over the hills from Peterchurch.
URL:https://glosoutdoor.co.uk/event/camping-hay-on-wye/
CATEGORIES:Activities
END:VEVENT
BEGIN:VEVENT
DTSTART;VALUE=DATE:20230820
DTEND;VALUE=DATE:20230821
DTSTAMP:20260424T203939
CREATED:20230725T204700Z
LAST-MODIFIED:20230725T204700Z
UID:4474-1692489600-1692575999@glosoutdoor.co.uk
SUMMARY:Day walk - Cockleford-Colesbourne
DESCRIPTION:Enjoy a great gander across the escarpment before heading across the hills and into the valleys. Refreshment in the Green Dragon afterwards would be polite where there is a pub and a cafe.
URL:https://glosoutdoor.co.uk/event/day-walk-cockleford-colesbourne/
CATEGORIES:Activities
END:VEVENT
BEGIN:VEVENT
DTSTART;VALUE=DATE:20230817
DTEND;VALUE=DATE:20230818
DTSTAMP:20260424T203939
CREATED:20230725T204554Z
LAST-MODIFIED:20230725T204554Z
UID:4472-1692230400-1692316799@glosoutdoor.co.uk
SUMMARY:Evening walk - Great Witcombe
DESCRIPTION:An evening walk from Great Witcombe\, up onto the Cotwold way for the views and back down. Length approx 3.5 mile\, with a long steady climb\, undulating middle section and a steady descent.  Possibility of a pub at the end
URL:https://glosoutdoor.co.uk/event/evening-walk-great-witcombe/
CATEGORIES:Activities
END:VEVENT
BEGIN:VEVENT
DTSTART;VALUE=DATE:20230813
DTEND;VALUE=DATE:20230814
DTSTAMP:20260424T203939
CREATED:20230725T204452Z
LAST-MODIFIED:20230725T205006Z
UID:4470-1691884800-1691971199@glosoutdoor.co.uk
SUMMARY:Day walk - Newnham 8.25 miles
DESCRIPTION:Ascending to Littledean then into the Forest we enjoy a well-earned descent to the picturesque Soudley Ponds. There may be a cafe stop at Dean Heritage Centre before the return to the Severn with a\, pretty riverside walk back to Newnham
URL:https://glosoutdoor.co.uk/event/day-walk-newnham-8-25-miles/
CATEGORIES:Activities
END:VEVENT
BEGIN:VEVENT
DTSTART;VALUE=DATE:20230811
DTEND;VALUE=DATE:20230812
DTSTAMP:20260424T203939
CREATED:20230725T204323Z
LAST-MODIFIED:20230725T204323Z
UID:4468-1691712000-1691798399@glosoutdoor.co.uk
SUMMARY:Peter Gill at the Tuckwell Theatre
DESCRIPTION:Fancy an evening of boogie woogie and a picnic? The Tuckwell outdoor theatre is a perfect setting to bring your camping chair\, nibbles and wine/beer to listen to Peter Gill and his band entertain you with boogie woogie classics
URL:https://glosoutdoor.co.uk/event/peter-gill-at-the-tuckwell-theatre/
CATEGORIES:Activities
END:VEVENT
BEGIN:VEVENT
DTSTART;VALUE=DATE:20230806
DTEND;VALUE=DATE:20230807
DTSTAMP:20260424T203939
CREATED:20230725T204231Z
LAST-MODIFIED:20230725T204231Z
UID:4466-1691280000-1691366399@glosoutdoor.co.uk
SUMMARY:Day walk - Lasborough/ Ozleworth Bottom
DESCRIPTION:Today’s walk goes through deep\, wooded valleys and country houses. Walking first through Ozleworth Park (Seen on BBCs ‘Tess of the D’urbervilles’) to Ozleworth Bottom following the stream\, we climb to Lasborough Park and the tiny Lasborough Church (which featured in the TV series Lark Rise to Candleford). Then into the valley of Marlees Brook.
URL:https://glosoutdoor.co.uk/event/day-walk-lasborough-ozleworth-bottom/
CATEGORIES:Activities
END:VEVENT
BEGIN:VEVENT
DTSTART;VALUE=DATE:20230803
DTEND;VALUE=DATE:20230804
DTSTAMP:20260424T203939
CREATED:20230725T204143Z
LAST-MODIFIED:20230725T204143Z
UID:4464-1691020800-1691107199@glosoutdoor.co.uk
SUMMARY:Evening Walk - Daneway Sapperton
DESCRIPTION:A 5-mile jaunt out from Sapperton towards Edgeworth and across the polo fields. We return via the nature reserve -perfect for spotting all sorts of wildlife but the large blue butterfly in particular (as mentioned by David Attenborough!)
URL:https://glosoutdoor.co.uk/event/evening-walk-daneway-sapperton/
CATEGORIES:Activities
END:VEVENT
BEGIN:VEVENT
DTSTART;VALUE=DATE:20230728
DTEND;VALUE=DATE:20230731
DTSTAMP:20260424T203939
CREATED:20230726T200907Z
LAST-MODIFIED:20230726T200907Z
UID:4519-1690502400-1690761599@glosoutdoor.co.uk
SUMMARY:Camping - Shropshire
DESCRIPTION:What could be more Summer than a weekend away in the outdoors? Simon invites you to join in on a wonderful camping weekend in Shropshire. Although the campsite is yet to be decided upon\, the scenery will be beautiful\, the location quiet and the walking very enjoyable
URL:https://glosoutdoor.co.uk/event/camping-shropshire/
CATEGORIES:Activities
END:VEVENT
BEGIN:VEVENT
DTSTART;VALUE=DATE:20230727
DTEND;VALUE=DATE:20230728
DTSTAMP:20260424T203939
CREATED:20230725T204042Z
LAST-MODIFIED:20230725T204042Z
UID:4462-1690416000-1690502399@glosoutdoor.co.uk
SUMMARY:Evening walk - Upper Framilode
DESCRIPTION:A shortish\, figure of 8\, evening walk with the deliberate intention of stopping off at the pub for food/beer at the end –  this level pre-pub amble takes in canals towpaths (both working and disused canals) and the banks of the mighty River Severn before enjoying the delights of this historic pub. No hills
URL:https://glosoutdoor.co.uk/event/evening-walk-upper-framilode/
CATEGORIES:Activities
END:VEVENT
BEGIN:VEVENT
DTSTART;VALUE=DATE:20230726
DTEND;VALUE=DATE:20230727
DTSTAMP:20260424T203939
CREATED:20230726T203116Z
LAST-MODIFIED:20230726T203116Z
UID:4555-1690329600-1690415999@glosoutdoor.co.uk
SUMMARY:Day walk - The Lenches\,Worcestershire 9 miles
DESCRIPTION:An exploration of three attractive villages awash with black and white houses in the beautiful\, rich undulating farmland of east Worcestershire. The villages are on the Vale of Evesham blossom trail and its hoped that this time of year\, the blossom will be out in full
URL:https://glosoutdoor.co.uk/event/day-walk-the-lenchesworcestershire-9-miles/
CATEGORIES:Activities
END:VEVENT
BEGIN:VEVENT
DTSTART;VALUE=DATE:20230726
DTEND;VALUE=DATE:20230727
DTSTAMP:20260424T203939
CREATED:20230726T203507Z
LAST-MODIFIED:20230726T203507Z
UID:4562-1690329600-1690415999@glosoutdoor.co.uk
SUMMARY:Evening bird watching stroll Coombe Hill
DESCRIPTION:The Coombe Hill Nature reserve is home to wide species of wildlife. This evening’s activity will be more a chance to slow down\, to stop\,observe and identify. This historic\, wet grassland is one of the last breeding sites locally for the curlew and is rich in dragonflies and damselflies
URL:https://glosoutdoor.co.uk/event/evening-bird-watching-stroll-coombe-hill/
CATEGORIES:Activities
END:VEVENT
BEGIN:VEVENT
DTSTART;VALUE=DATE:20230726
DTEND;VALUE=DATE:20230727
DTSTAMP:20260424T203939
CREATED:20230726T203206Z
LAST-MODIFIED:20230726T203206Z
UID:4558-1690329600-1690415999@glosoutdoor.co.uk
SUMMARY:Evening Walk - Little Witcombe 4.5 miles
DESCRIPTION:The walk is quite hilly and has good views\, reservoirs and forest
URL:https://glosoutdoor.co.uk/event/evening-walk-little-witcombe-4-5-miles/
CATEGORIES:Activities
END:VEVENT
BEGIN:VEVENT
DTSTART;VALUE=DATE:20230726
DTEND;VALUE=DATE:20230727
DTSTAMP:20260424T203939
CREATED:20230726T203025Z
LAST-MODIFIED:20230726T203025Z
UID:4553-1690329600-1690415999@glosoutdoor.co.uk
SUMMARY:Day walk - Somerford Keynes 6.5 miles
DESCRIPTION:This is a delightfully-flat walk\, on paths new to GOG\, in the picturesque South-Eastern Cotswolds. Bring food and drink. There are two cafes a short drive from the car park which should be open until 4pm for afterwards
URL:https://glosoutdoor.co.uk/event/day-walk-somerford-keynes-6-5-miles/
CATEGORIES:Activities
END:VEVENT
BEGIN:VEVENT
DTSTART;VALUE=DATE:20230726
DTEND;VALUE=DATE:20230727
DTSTAMP:20260424T203939
CREATED:20230726T202940Z
LAST-MODIFIED:20230726T202940Z
UID:4551-1690329600-1690415999@glosoutdoor.co.uk
SUMMARY:Eve walkn - Maisemore 5 miles
DESCRIPTION:A lovely\, scenic evening walk which includes some gentle climbs and descents\, views of the river Severn and (often) herds of deer
URL:https://glosoutdoor.co.uk/event/eve-walkn-maisemore-5-miles/
CATEGORIES:Activities
END:VEVENT
BEGIN:VEVENT
DTSTART;VALUE=DATE:20230720
DTEND;VALUE=DATE:20230721
DTSTAMP:20260424T203939
CREATED:20230726T201014Z
LAST-MODIFIED:20230726T201014Z
UID:4521-1689811200-1689897599@glosoutdoor.co.uk
SUMMARY:Evening walk - Charlton Kings 5 miles
DESCRIPTION:This five mile circuit has a steep incline up Timbercombe Lane on the ‘Cheltenham Circular’ to start\, with reward of fine views before descending to track the River Chelt. We return through parkland in Charlton Kings to savour the delights at the ‘Royal’ pub which has a lovely garden!
URL:https://glosoutdoor.co.uk/event/evening-walk-charlton-kings-5-miles/
CATEGORIES:Activities
END:VEVENT
END:VCALENDAR