BEGIN:VCALENDAR
VERSION:2.0
PRODID:-//Gloucestershire Outdoor Walking Group - ECPv6.15.20//NONSGML v1.0//EN
CALSCALE:GREGORIAN
METHOD:PUBLISH
X-WR-CALNAME:Gloucestershire Outdoor Walking Group
X-ORIGINAL-URL:https://glosoutdoor.co.uk
X-WR-CALDESC:Events for Gloucestershire Outdoor Walking Group
REFRESH-INTERVAL;VALUE=DURATION:PT1H
X-Robots-Tag:noindex
X-PUBLISHED-TTL:PT1H
BEGIN:VTIMEZONE
TZID:Europe/London
BEGIN:DAYLIGHT
TZOFFSETFROM:+0000
TZOFFSETTO:+0100
TZNAME:BST
DTSTART:20210328T010000
END:DAYLIGHT
BEGIN:STANDARD
TZOFFSETFROM:+0100
TZOFFSETTO:+0000
TZNAME:GMT
DTSTART:20211031T010000
END:STANDARD
BEGIN:DAYLIGHT
TZOFFSETFROM:+0000
TZOFFSETTO:+0100
TZNAME:BST
DTSTART:20220327T010000
END:DAYLIGHT
BEGIN:STANDARD
TZOFFSETFROM:+0100
TZOFFSETTO:+0000
TZNAME:GMT
DTSTART:20221030T010000
END:STANDARD
BEGIN:DAYLIGHT
TZOFFSETFROM:+0000
TZOFFSETTO:+0100
TZNAME:BST
DTSTART:20230326T010000
END:DAYLIGHT
BEGIN:STANDARD
TZOFFSETFROM:+0100
TZOFFSETTO:+0000
TZNAME:GMT
DTSTART:20231029T010000
END:STANDARD
END:VTIMEZONE
BEGIN:VEVENT
DTSTART;VALUE=DATE:20221021
DTEND;VALUE=DATE:20221022
DTSTAMP:20260425T040826
CREATED:20220824T201204Z
LAST-MODIFIED:20220824T201204Z
UID:4320-1666310400-1666396799@glosoutdoor.co.uk
SUMMARY:Morning walk - Tetbury 6.5 miles
DESCRIPTION:Come along and enjoy an easy walk following disused railway track then across fields to the pretty hamlet of Ashley. Lovely views of Tetbury church on the return leg.
URL:https://glosoutdoor.co.uk/event/morning-walk-tetbury-6-5-miles/
CATEGORIES:Activities
END:VEVENT
BEGIN:VEVENT
DTSTART;VALUE=DATE:20221020
DTEND;VALUE=DATE:20221021
DTSTAMP:20260425T040826
CREATED:20220824T201110Z
LAST-MODIFIED:20220824T201110Z
UID:4318-1666224000-1666310399@glosoutdoor.co.uk
SUMMARY:Theatre evening - 'Evita'
DESCRIPTION:Featuring some of Tim Rice and Andrew Lloyd Webber’s most iconic songs\, including “Don’t Cry for Me\, Argentina\,” this musical masterpiece is being performed by the Really Useful Theatre group at Cheltenham’s very own independent Playhouse Theatre
URL:https://glosoutdoor.co.uk/event/theatre-evening-evita/
CATEGORIES:Activities
END:VEVENT
BEGIN:VEVENT
DTSTART;VALUE=DATE:20221014
DTEND;VALUE=DATE:20221018
DTSTAMP:20260425T040826
CREATED:20220523T203938Z
LAST-MODIFIED:20220523T203938Z
UID:4268-1665705600-1666051199@glosoutdoor.co.uk
SUMMARY:Weekend away:- South Downs NP
DESCRIPTION:
URL:https://glosoutdoor.co.uk/event/weekend-away-south-downs-np/
CATEGORIES:Activities
END:VEVENT
BEGIN:VEVENT
DTSTART;VALUE=DATE:20221013
DTEND;VALUE=DATE:20221014
DTSTAMP:20260425T040826
CREATED:20220824T200940Z
LAST-MODIFIED:20220824T200940Z
UID:4316-1665619200-1665705599@glosoutdoor.co.uk
SUMMARY:Morning walk - Sir Stanley Tubbs and Stinchcombe Hill ( 4 miles)
DESCRIPTION:A 4 mile saunter around Stinchcombe Hill offers stunning views of the Cotswold Escarpment\, Severn Vale and the Forest of Dean.Enjoy snippets of local history and rest on a monument to the benefactor who gave the hill to the public.
URL:https://glosoutdoor.co.uk/event/morning-walk-sir-stanley-tubbs-and-stinchcombe-hill-4-miles/
CATEGORIES:Activities
END:VEVENT
BEGIN:VEVENT
DTSTART;VALUE=DATE:20221009
DTEND;VALUE=DATE:20221010
DTSTAMP:20260425T040826
CREATED:20220824T200843Z
LAST-MODIFIED:20220824T200843Z
UID:4314-1665273600-1665359999@glosoutdoor.co.uk
SUMMARY:Day walk :- Woodchester 8 miles
DESCRIPTION:Heading out through the village of Nymphsfield\, this walk includes some steep inclines and descents. The return is through the delightful Woodchester Park\, which by this time of year has Autumnal colours to enjoy. Varied terrain: hills\, streams\, woods and even a lake!
URL:https://glosoutdoor.co.uk/event/day-walk-woodchester-8-miles/
CATEGORIES:Activities
END:VEVENT
BEGIN:VEVENT
DTSTART;VALUE=DATE:20221006
DTEND;VALUE=DATE:20221007
DTSTAMP:20260425T040826
CREATED:20220824T200802Z
LAST-MODIFIED:20220824T200802Z
UID:4312-1665014400-1665100799@glosoutdoor.co.uk
SUMMARY:Theatre :- Cirencester 'Girl on a train'
DESCRIPTION:Read the book? Seen the film? Watch the play at the Barn theatre\, Cirencester: Based on Paula Hawkins’ international bestseller ‘The Girl on the Train’ is a gripping mystery/suspense thriller
URL:https://glosoutdoor.co.uk/event/theatre-cirencester-girl-on-a-train/
CATEGORIES:Activities
END:VEVENT
BEGIN:VEVENT
DTSTART;VALUE=DATE:20221002
DTEND;VALUE=DATE:20221003
DTSTAMP:20260425T040826
CREATED:20220824T200721Z
LAST-MODIFIED:20220824T200721Z
UID:4310-1664668800-1664755199@glosoutdoor.co.uk
SUMMARY:Day walk :-Tortworth estate 9.5 miles
DESCRIPTION:A 9 mile walk\, which includes a walk around the lake in the Tortworth estate\, only open to the public one Sunday each month from March to October.
URL:https://glosoutdoor.co.uk/event/day-walk-tortworth-estate-9-5-miles/
CATEGORIES:Activities
END:VEVENT
BEGIN:VEVENT
DTSTART;VALUE=DATE:20221001
DTEND;VALUE=DATE:20221002
DTSTAMP:20260425T040826
CREATED:20220824T200623Z
LAST-MODIFIED:20220824T200623Z
UID:4308-1664582400-1664668799@glosoutdoor.co.uk
SUMMARY:Day walk :- Bredon Hill  10 miles
DESCRIPTION:The walk has one and a half climbs of the hill\, taken at a steady pace with plenty of stops on the climbs to admire the view\, and catch your breath.
URL:https://glosoutdoor.co.uk/event/day-walk-bredon-hill-10-miles-2/
CATEGORIES:Activities
END:VEVENT
BEGIN:VEVENT
DTSTART;VALUE=DATE:20220930
DTEND;VALUE=DATE:20221001
DTSTAMP:20260425T040826
CREATED:20220824T200544Z
LAST-MODIFIED:20220824T200544Z
UID:4306-1664496000-1664582399@glosoutdoor.co.uk
SUMMARY:Morning  walk :- Wotton under-Edge
DESCRIPTION:As rich farmland gives way to woodland tracks and rolling parkland\, this enchanting\, 5 mile walk walk leads from scarp top to valley bottom\, back into one of the Cotswold’s charming small towns.
URL:https://glosoutdoor.co.uk/event/morning-walk-wotton-under-edge/
CATEGORIES:Activities
END:VEVENT
BEGIN:VEVENT
DTSTART;VALUE=DATE:20220925
DTEND;VALUE=DATE:20220926
DTSTAMP:20260425T040826
CREATED:20220824T200450Z
LAST-MODIFIED:20220824T200450Z
UID:4304-1664064000-1664150399@glosoutdoor.co.uk
SUMMARY:Day walk & steam train :- Winchcombe distance tbc
DESCRIPTION:A chuffingly good day out of steam train and linear walk. Heading out out on the Gloucestershire steam train from Winchcombe\, we will have a chance to enjoy this historic line from the comfort of a carriage until we reach our destination.
URL:https://glosoutdoor.co.uk/event/day-walk-steam-train-winchcombe-distance-tbc/
CATEGORIES:Activities
END:VEVENT
BEGIN:VEVENT
DTSTART;VALUE=DATE:20220922
DTEND;VALUE=DATE:20220923
DTSTAMP:20260425T040826
CREATED:20220824T200401Z
LAST-MODIFIED:20220824T200401Z
UID:4302-1663804800-1663891199@glosoutdoor.co.uk
SUMMARY:Morning walk :- Michinhampton and Hyde
DESCRIPTION:A 4 mile circular route through Besbury common\, along the Thames and Severn canal and through the Cotswold hamlet of Hyde before heading back to the start.
URL:https://glosoutdoor.co.uk/event/morning-walk-michinhampton-and-hyde/
CATEGORIES:Activities
END:VEVENT
BEGIN:VEVENT
DTSTART;VALUE=DATE:20220918
DTEND;VALUE=DATE:20220919
DTSTAMP:20260425T040826
CREATED:20220824T200309Z
LAST-MODIFIED:20220824T200309Z
UID:4300-1663459200-1663545599@glosoutdoor.co.uk
SUMMARY:Day walk :- Broadway 10.5 miles
DESCRIPTION:Starting at Fish Hill picnic area the walk head over Dover’s Hill before descending to the north and circuiting round to the west to Broadway and then back up the hill. This walk does include a significant climb out of Broadway to the tower as well as some other ‘ups and downs’.
URL:https://glosoutdoor.co.uk/event/day-walk-broadway-10-5-miles/
CATEGORIES:Activities
END:VEVENT
BEGIN:VEVENT
DTSTART;VALUE=DATE:20220916
DTEND;VALUE=DATE:20220917
DTSTAMP:20260425T040826
CREATED:20220824T200153Z
LAST-MODIFIED:20220824T200153Z
UID:4298-1663286400-1663372799@glosoutdoor.co.uk
SUMMARY:Morning walk :- Upper Framilode 7 miles
DESCRIPTION:A 7-mile\, scenic\, flat walk starting along the curve of River Severn then returning inland with one steepish ascent of Barrow Hill (nice views!)
URL:https://glosoutdoor.co.uk/event/morning-walk-upper-framilode-7-miles/
CATEGORIES:Activities
END:VEVENT
BEGIN:VEVENT
DTSTART;VALUE=DATE:20220915
DTEND;VALUE=DATE:20220916
DTSTAMP:20260425T040826
CREATED:20220824T200106Z
LAST-MODIFIED:20220824T200106Z
UID:4296-1663200000-1663286399@glosoutdoor.co.uk
SUMMARY:Evening Curry Bath Road\, Cheltenham
DESCRIPTION:Time for a curry…and with NO washing up!
URL:https://glosoutdoor.co.uk/event/evening-curry-bath-road-cheltenham/
CATEGORIES:Activities
END:VEVENT
BEGIN:VEVENT
DTSTART;VALUE=DATE:20220910
DTEND;VALUE=DATE:20220911
DTSTAMP:20260425T040826
CREATED:20220824T200014Z
LAST-MODIFIED:20220824T200014Z
UID:4294-1662768000-1662854399@glosoutdoor.co.uk
SUMMARY:Firework evening at Eastnor Castle
DESCRIPTION:This spectacle sees 3 teams trying to outdo each other with their breathtaking spectacles of colour and pyrotechnical wizardry! Gates open at 4.30\, first team is at 7.30 and event finishes at 9.40. Option to camp overnight on the Eastnor estate camp-ground or just join for the evening.
URL:https://glosoutdoor.co.uk/event/firework-evening-at-eastnor-castle/
CATEGORIES:Activities
END:VEVENT
BEGIN:VEVENT
DTSTART;VALUE=DATE:20220909
DTEND;VALUE=DATE:20220912
DTSTAMP:20260425T040826
CREATED:20220321T212009Z
LAST-MODIFIED:20220321T213010Z
UID:4087-1662681600-1662940799@glosoutdoor.co.uk
SUMMARY:Weekend away - Beacons Way
DESCRIPTION:The end is in sight! \nLlandeusant – Carreg Cennen Castle 12.5 miles across very remote country\, 660 metres ascent. The second walk is Carreg Cennen Castle – Bethlehem\, a much easier walk to complete the Beacons Way\, 10 miles\, but only 280 metres ascent
URL:https://glosoutdoor.co.uk/event/weekend-away-beacons-way-2/
CATEGORIES:Activities
END:VEVENT
BEGIN:VEVENT
DTSTART;VALUE=DATE:20220904
DTEND;VALUE=DATE:20220905
DTSTAMP:20260425T040826
CREATED:20220523T203832Z
LAST-MODIFIED:20220523T203832Z
UID:4266-1662249600-1662335999@glosoutdoor.co.uk
SUMMARY:Day walk:- Final leg of Gloucestershire Way
DESCRIPTION:
URL:https://glosoutdoor.co.uk/event/day-walk-final-leg-of-gloucestershire-way/
CATEGORIES:Activities
END:VEVENT
BEGIN:VEVENT
DTSTART;VALUE=DATE:20220902
DTEND;VALUE=DATE:20220903
DTSTAMP:20260425T040826
CREATED:20220824T195805Z
LAST-MODIFIED:20220824T195805Z
UID:4292-1662076800-1662163199@glosoutdoor.co.uk
SUMMARY:Day walk :-Rendcombe 7 miles
DESCRIPTION:A 7mile walk around the rolling countryside starting from the grand and beautiful estate village of Rendcombe. The route allows long views and descends into some interesting valleys.
URL:https://glosoutdoor.co.uk/event/day-walk-rendcombe-7-miles/
CATEGORIES:Activities
END:VEVENT
BEGIN:VEVENT
DTSTART;VALUE=DATE:20220901
DTEND;VALUE=DATE:20220902
DTSTAMP:20260425T040826
CREATED:20220824T195706Z
LAST-MODIFIED:20220824T201726Z
UID:4290-1661990400-1662076799@glosoutdoor.co.uk
SUMMARY:Evening walk:- Quarhouse The Heavens 4.7 miles
DESCRIPTION:To Heaven and back: A beautiful evening walk with a hill to start and views over valleys. Back via the Quarhouse and the Heavens
URL:https://glosoutdoor.co.uk/event/eve-walk-quarhouse-the-heavens-4-7-miles/
CATEGORIES:Activities
END:VEVENT
BEGIN:VEVENT
DTSTART;VALUE=DATE:20220828
DTEND;VALUE=DATE:20220829
DTSTAMP:20260425T040826
CREATED:20220824T195620Z
LAST-MODIFIED:20220824T195620Z
UID:4288-1661644800-1661731199@glosoutdoor.co.uk
SUMMARY:Day walk :- Ledbury 10 miles
DESCRIPTION:A different walk this time from Ledbury! Enjoy a 9 – 10 mile walk\, starting from Ledbury\, and heading for Wellington Heath\, and then Coddington passing through Coddington vineyard\, famous for its 3\,000 vines and superb wine. \nWhilst not climbing the Malverns themselves\, this is by no means a flat walk\, going up and down the hills to the west of the main ridge.
URL:https://glosoutdoor.co.uk/event/day-walk-ledbury-10-miles-2/
CATEGORIES:Activities
END:VEVENT
BEGIN:VEVENT
DTSTART;VALUE=DATE:20220825
DTEND;VALUE=DATE:20220826
DTSTAMP:20260425T040826
CREATED:20220523T203746Z
LAST-MODIFIED:20220523T203746Z
UID:4264-1661385600-1661471999@glosoutdoor.co.uk
SUMMARY:Evening Walk:- Haresfield Beacon 5 miles
DESCRIPTION:In this Jubilee year join us on the Jubilee walk from Haresfield Beacon (great views guaranteed) which takes you through Whiteshill to Ruscombe and back
URL:https://glosoutdoor.co.uk/event/evening-walk-haresfield-beacon-5-miles/
CATEGORIES:Activities
END:VEVENT
BEGIN:VEVENT
DTSTART;VALUE=DATE:20220819
DTEND;VALUE=DATE:20220822
DTSTAMP:20260425T040826
CREATED:20220523T203645Z
LAST-MODIFIED:20220523T203645Z
UID:4262-1660867200-1661126399@glosoutdoor.co.uk
SUMMARY:Camping weekend:- Exmoor
DESCRIPTION:The campsite has 360% views of woodland/moorlands and is a popular stargazing spot\, being a ‘dark sky’ reserve. Fabulous walks in the area.
URL:https://glosoutdoor.co.uk/event/camping-weekend-exmoor/
CATEGORIES:Activities
END:VEVENT
BEGIN:VEVENT
DTSTART;VALUE=DATE:20220818
DTEND;VALUE=DATE:20220819
DTSTAMP:20260425T040826
CREATED:20220523T203521Z
LAST-MODIFIED:20220523T203521Z
UID:4260-1660780800-1660867199@glosoutdoor.co.uk
SUMMARY:Gifford's Circus + picnic
DESCRIPTION:
URL:https://glosoutdoor.co.uk/event/giffords-circus-picnic/
CATEGORIES:Activities
END:VEVENT
BEGIN:VEVENT
DTSTART;VALUE=DATE:20220814
DTEND;VALUE=DATE:20220815
DTSTAMP:20260425T040826
CREATED:20220523T203431Z
LAST-MODIFIED:20220523T203431Z
UID:4258-1660435200-1660521599@glosoutdoor.co.uk
SUMMARY:Day walk:- Ledbury 10 miles
DESCRIPTION:A different walk this time from Ledbury\, taking in Wellington Heath\, Coddington\, and including a walk through the delightful the vineyard at Coddington
URL:https://glosoutdoor.co.uk/event/day-walk-ledbury-10-miles/
CATEGORIES:Activities
END:VEVENT
BEGIN:VEVENT
DTSTART;VALUE=DATE:20220811
DTEND;VALUE=DATE:20220812
DTSTAMP:20260425T040826
CREATED:20220523T203332Z
LAST-MODIFIED:20220523T203332Z
UID:4256-1660176000-1660262399@glosoutdoor.co.uk
SUMMARY:Evening walk:- Winchcombe 4 miles
DESCRIPTION:Make the most of the long summer evenings with a walk from Winchcombe. Following the Gloucestershire Way to Haile on the Hill\, with some fine views before returning via the Warden’s Way to pass by Sudeley Castle
URL:https://glosoutdoor.co.uk/event/evening-walk-winchcombe-4-miles/
CATEGORIES:Activities
END:VEVENT
BEGIN:VEVENT
DTSTART;VALUE=DATE:20220807
DTEND;VALUE=DATE:20220808
DTSTAMP:20260425T040826
CREATED:20220523T203239Z
LAST-MODIFIED:20220523T203239Z
UID:4254-1659830400-1659916799@glosoutdoor.co.uk
SUMMARY:Day out:- Forest of Dean Sculpture Trail + Chepstow Castle
DESCRIPTION:Join us this time for a pleasant tried-and-tested walk in the Forest of Dean. The walk is about 4 miles long\, mostly easy with one or two uphill stretches\, and with plenty of impressive sculptures along the way. We can get lunch back at Beechenhurst afterwards\, the cafe’s very good\, or you can bring your own sandwiches. Afterwards\, there’s the option of going to Chepstow Castle
URL:https://glosoutdoor.co.uk/event/day-out-forest-of-dean-sculpture-trail-chepstow-castle/
CATEGORIES:Activities
END:VEVENT
BEGIN:VEVENT
DTSTART;VALUE=DATE:20220806
DTEND;VALUE=DATE:20220807
DTSTAMP:20260425T040826
CREATED:20220523T203123Z
LAST-MODIFIED:20220523T203123Z
UID:4252-1659744000-1659830399@glosoutdoor.co.uk
SUMMARY:Evening Outdoor Theatre:– The Recruiting Officer
DESCRIPTION:“The Recruiting Officer” by George Farquhar – a farce set in 18th Century Shrewsbury\, involving some less-than-honest Army recruitment officers and a good deal of potential romance\, with chaos inevitably just round the corner throughout. Sounds like a lot of fun. Please bring a picnic and something to sit on\, along with some warm clothes
URL:https://glosoutdoor.co.uk/event/evening-outdoor-theatre-the-recruiting-officer/
CATEGORIES:Activities
END:VEVENT
BEGIN:VEVENT
DTSTART;VALUE=DATE:20220731
DTEND;VALUE=DATE:20220801
DTSTAMP:20260425T040826
CREATED:20220523T202955Z
LAST-MODIFIED:20220523T202955Z
UID:4250-1659225600-1659311999@glosoutdoor.co.uk
SUMMARY:Day walk:- Cleeve Hill/ Belas Knapp 6 miles
DESCRIPTION:A half day’s walk on Cleeve Hill overlooking Cheltenham with time for coffee and cake or pasty en-route\, taking in Belas Knapp\, the ancient burial mound\, the walk assures big views in the second half and the sounds of skylarks
URL:https://glosoutdoor.co.uk/event/day-walk-cleeve-hill-belas-knapp-6-miles/
CATEGORIES:Activities
END:VEVENT
BEGIN:VEVENT
DTSTART;VALUE=DATE:20220728
DTEND;VALUE=DATE:20220729
DTSTAMP:20260425T040826
CREATED:20220523T202838Z
LAST-MODIFIED:20220523T202838Z
UID:4248-1658966400-1659052799@glosoutdoor.co.uk
SUMMARY:Evening walk:- Frampton upon Severn
DESCRIPTION:A classic summer evening walk along the canal and river from the beautiful village of Frampton on Severn\, finishing at the pub\,
URL:https://glosoutdoor.co.uk/event/evening-walk-frampton-upon-severn/
CATEGORIES:Activities
END:VEVENT
BEGIN:VEVENT
DTSTART;VALUE=DATE:20220721
DTEND;VALUE=DATE:20220722
DTSTAMP:20260425T040826
CREATED:20220523T202738Z
LAST-MODIFIED:20220523T202738Z
UID:4246-1658361600-1658447999@glosoutdoor.co.uk
SUMMARY:Evening walk:– Bisley
DESCRIPTION:A delightful walk around quaint Bisley village\, passing the church and the old washing wells\, walking down the wooded valley to Hawkley Wood and Helen’s Wood
URL:https://glosoutdoor.co.uk/event/evening-walk-bisley/
CATEGORIES:Activities
END:VEVENT
END:VCALENDAR