BEGIN:VCALENDAR
VERSION:2.0
PRODID:-//Gloucestershire Outdoor Walking Group - ECPv6.15.20//NONSGML v1.0//EN
CALSCALE:GREGORIAN
METHOD:PUBLISH
X-WR-CALNAME:Gloucestershire Outdoor Walking Group
X-ORIGINAL-URL:https://glosoutdoor.co.uk
X-WR-CALDESC:Events for Gloucestershire Outdoor Walking Group
REFRESH-INTERVAL;VALUE=DURATION:PT1H
X-Robots-Tag:noindex
X-PUBLISHED-TTL:PT1H
BEGIN:VTIMEZONE
TZID:Europe/London
BEGIN:DAYLIGHT
TZOFFSETFROM:+0000
TZOFFSETTO:+0100
TZNAME:BST
DTSTART:20210328T010000
END:DAYLIGHT
BEGIN:STANDARD
TZOFFSETFROM:+0100
TZOFFSETTO:+0000
TZNAME:GMT
DTSTART:20211031T010000
END:STANDARD
BEGIN:DAYLIGHT
TZOFFSETFROM:+0000
TZOFFSETTO:+0100
TZNAME:BST
DTSTART:20220327T010000
END:DAYLIGHT
BEGIN:STANDARD
TZOFFSETFROM:+0100
TZOFFSETTO:+0000
TZNAME:GMT
DTSTART:20221030T010000
END:STANDARD
BEGIN:DAYLIGHT
TZOFFSETFROM:+0000
TZOFFSETTO:+0100
TZNAME:BST
DTSTART:20230326T010000
END:DAYLIGHT
BEGIN:STANDARD
TZOFFSETFROM:+0100
TZOFFSETTO:+0000
TZNAME:GMT
DTSTART:20231029T010000
END:STANDARD
END:VTIMEZONE
BEGIN:VEVENT
DTSTART;VALUE=DATE:20220519
DTEND;VALUE=DATE:20220520
DTSTAMP:20260425T163837
CREATED:20220522T204855Z
LAST-MODIFIED:20220522T205342Z
UID:4194-1652918400-1653004799@glosoutdoor.co.uk
SUMMARY:Evening walk: Great Witcombe 4.5 miles
DESCRIPTION:A hilly walk\,  as it climbs up past the Roman Villa\, giving nice views and takes in a small section of the Cotswold Way with reservoirs and forest trails
URL:https://glosoutdoor.co.uk/event/evening-walk-great-witcombe-4-5-miles/
CATEGORIES:Activities
END:VEVENT
BEGIN:VEVENT
DTSTART;VALUE=DATE:20220515
DTEND;VALUE=DATE:20220516
DTSTAMP:20260425T163837
CREATED:20220209T220824Z
LAST-MODIFIED:20220321T213331Z
UID:4040-1652572800-1652659199@glosoutdoor.co.uk
SUMMARY:Day walk: Llantwich Major
DESCRIPTION:Llantwit Major to Barry (returning by train) \nThis is a predominantly cliff-top day-long walk with possibility of some beach walking dependent on tides. Stunning views of this Jurassic coastline.
URL:https://glosoutdoor.co.uk/event/day-walk-llantwich-major/
CATEGORIES:Activities
END:VEVENT
BEGIN:VEVENT
DTSTART;VALUE=DATE:20220506
DTEND;VALUE=DATE:20220509
DTSTAMP:20260425T163837
CREATED:20220209T220656Z
LAST-MODIFIED:20220321T213400Z
UID:4038-1651795200-1652054399@glosoutdoor.co.uk
SUMMARY:Weekend away: Beacons Way
DESCRIPTION:Staying at Llandeusant Youth hostel. Saturday – walks include: Craig y Nos – Llandeusant 10 miles – there are two different routes\, a high route and low route. The high route has a 760 metre climb\, we will decide on the day which one to take\, depending on the weather.
URL:https://glosoutdoor.co.uk/event/weekend-away-beacons-way/
CATEGORIES:Activities
END:VEVENT
BEGIN:VEVENT
DTSTART;VALUE=DATE:20220505
DTEND;VALUE=DATE:20220506
DTSTAMP:20260425T163837
CREATED:20220209T220510Z
LAST-MODIFIED:20220321T213421Z
UID:4036-1651708800-1651795199@glosoutdoor.co.uk
SUMMARY:Evening walk: Cranham 4-5miles
DESCRIPTION:An evening’s perambulation in the Cranham area. Big views and atmospheric woods with chances of spotting deer. Or beer? There could be a pub at the end.
URL:https://glosoutdoor.co.uk/event/evening-walk-cranham-4-5miles/
CATEGORIES:Activities
END:VEVENT
BEGIN:VEVENT
DTSTART;VALUE=DATE:20220426
DTEND;VALUE=DATE:20220427
DTSTAMP:20260425T163837
CREATED:20220209T220415Z
LAST-MODIFIED:20220321T213441Z
UID:4034-1650931200-1651017599@glosoutdoor.co.uk
SUMMARY:Morning walk: Purton 5.25 miles
DESCRIPTION:We’ll walk along farm tracks over fields to Purton following the canal we visit the ships graveyard\, IRB station and lock\, finally thru Sharpness for some industrial landscapes
URL:https://glosoutdoor.co.uk/event/morning-walk-purton-5-25-miles/
CATEGORIES:Activities
END:VEVENT
BEGIN:VEVENT
DTSTART;VALUE=DATE:20220424
DTEND;VALUE=DATE:20220425
DTSTAMP:20260425T163837
CREATED:20220209T220204Z
LAST-MODIFIED:20220321T213500Z
UID:4032-1650758400-1650844799@glosoutdoor.co.uk
SUMMARY:Day walk: Long Compton 10 miles
DESCRIPTION:A 10 mile walk from Long Compton\, through Barton-on-the-Heath\, and a deer farm.
URL:https://glosoutdoor.co.uk/event/day-walk-long-compton-10-miles/
CATEGORIES:Activities
END:VEVENT
BEGIN:VEVENT
DTSTART;VALUE=DATE:20220421
DTEND;VALUE=DATE:20220422
DTSTAMP:20260425T163837
CREATED:20220209T220103Z
LAST-MODIFIED:20220321T213521Z
UID:4030-1650499200-1650585599@glosoutdoor.co.uk
SUMMARY:Evening walk: Randwick 3.5 miles
DESCRIPTION:Randwick and Ruscombe. Exploring some lesser used woodland paths with some lovely views and lots of trees
URL:https://glosoutdoor.co.uk/event/evening-walk-randwick-3-5-miles/
CATEGORIES:Activities
END:VEVENT
BEGIN:VEVENT
DTSTART;VALUE=DATE:20220414
DTEND;VALUE=DATE:20220415
DTSTAMP:20260425T163837
CREATED:20220209T215939Z
LAST-MODIFIED:20220321T213543Z
UID:4028-1649894400-1649980799@glosoutdoor.co.uk
SUMMARY:Evening planning & social (+free sausage & chips)
DESCRIPTION:Bring ideas for the next programme to this social event with a free sausage and chip supper.
URL:https://glosoutdoor.co.uk/event/evening-planning-social-free-sausage-chips/
CATEGORIES:Activities
END:VEVENT
BEGIN:VEVENT
DTSTART;VALUE=DATE:20220410
DTEND;VALUE=DATE:20220411
DTSTAMP:20260425T163837
CREATED:20220209T215811Z
LAST-MODIFIED:20220321T213602Z
UID:4026-1649548800-1649635199@glosoutdoor.co.uk
SUMMARY:Day walk: Monkton Coombe 10 miles
DESCRIPTION:Following the Kennet Avon Canal to Bradford upon Avon\, which is elevated above the River Avon for much of the route\, crossing over the river twice at the Dundas Aqueduct and Avoncliff Aqueduct
URL:https://glosoutdoor.co.uk/event/day-walk-monkton-coombe-10-miles/
CATEGORIES:Activities
END:VEVENT
BEGIN:VEVENT
DTSTART;VALUE=DATE:20220407
DTEND;VALUE=DATE:20220408
DTSTAMP:20260425T163837
CREATED:20220209T215658Z
LAST-MODIFIED:20220321T213621Z
UID:4024-1649289600-1649375999@glosoutdoor.co.uk
SUMMARY:Evening walk : Tewkesbury 4 miles
DESCRIPTION:This evening walk is 4 miles long\, including fields pavements and lanes with 3 stiles. Some river views\, old buildings and ancient alleyways
URL:https://glosoutdoor.co.uk/event/evening-walk-4-miles-tewkesbury/
CATEGORIES:Activities
END:VEVENT
BEGIN:VEVENT
DTSTART;VALUE=DATE:20220403
DTEND;VALUE=DATE:20220404
DTSTAMP:20260425T163837
CREATED:20220209T215601Z
LAST-MODIFIED:20220321T213639Z
UID:4022-1648944000-1649030399@glosoutdoor.co.uk
SUMMARY:Day walk: North Nibley 10 miles
DESCRIPTION:A 10 mile circular taking in spectacular views from Drakestone Point\, Heartbreak Hill and the Tyndale Monument. Although much of the terrain is flat\, there are two long\, steep climbs and one long descent\, providing hearty exercise!
URL:https://glosoutdoor.co.uk/event/day-walk-tetbury-8-10-miles/
CATEGORIES:Activities
END:VEVENT
BEGIN:VEVENT
DTSTART;VALUE=DATE:20220331
DTEND;VALUE=DATE:20220401
DTSTAMP:20260425T163837
CREATED:20220209T215344Z
LAST-MODIFIED:20220321T213704Z
UID:4020-1648684800-1648771199@glosoutdoor.co.uk
SUMMARY:Evening walk: 4 miles Painswick
DESCRIPTION:The first of the year. \nAn evening’s circular ramble to to enjoy the majestic views from Painswick Beacon
URL:https://glosoutdoor.co.uk/event/evening-walk-4-miles-painswick/
CATEGORIES:Activities
END:VEVENT
BEGIN:VEVENT
DTSTART;VALUE=DATE:20220327
DTEND;VALUE=DATE:20220328
DTSTAMP:20260425T163837
CREATED:20220209T215233Z
LAST-MODIFIED:20220321T213727Z
UID:4018-1648339200-1648425599@glosoutdoor.co.uk
SUMMARY:Day walk: Slad & Thorougham 13miles
DESCRIPTION:An up-and-down beautiful walk in a variety of terrain and including woodland\, remote valleys\, hidden footpaths\, remnants of a neolithic burial chamber\, streams\, and a good chance of spotting wildlife including deer.
URL:https://glosoutdoor.co.uk/event/day-walk-slad-thorougham-13miles/
CATEGORIES:Activities
END:VEVENT
BEGIN:VEVENT
DTSTART;VALUE=DATE:20220322
DTEND;VALUE=DATE:20220323
DTSTAMP:20260425T163837
CREATED:20220209T215153Z
LAST-MODIFIED:20220321T213751Z
UID:4016-1647907200-1647993599@glosoutdoor.co.uk
SUMMARY:Morning walk: Bisley 5miles
DESCRIPTION:Walk around Bisley village passing the church and the old washing wells\, walking down the valley to Hawkley Wood and Helen’s Wood\, returning via Copsegrove Covert
URL:https://glosoutdoor.co.uk/event/morning-walk-bisley-5miles/
CATEGORIES:Activities
END:VEVENT
BEGIN:VEVENT
DTSTART;VALUE=DATE:20220321
DTEND;VALUE=DATE:20220322
DTSTAMP:20260425T163837
CREATED:20220321T211757Z
LAST-MODIFIED:20220321T213040Z
UID:4084-1647820800-1647907199@glosoutdoor.co.uk
SUMMARY:Morning walk: Coaley Peak 4.5 miles
DESCRIPTION:The walk goes through to Nympsfield then through Toney Woods where hopefully the bluebells will be out. Heading back to Coaley Peak\, after following some of the Cotswold Way\, there is a bit of a climb on the way back.
URL:https://glosoutdoor.co.uk/event/morning-walk-coaley-peak-4-5-miles/
CATEGORIES:Activities
END:VEVENT
BEGIN:VEVENT
DTSTART;VALUE=DATE:20220320
DTEND;VALUE=DATE:20220321
DTSTAMP:20260425T163837
CREATED:20220209T215102Z
LAST-MODIFIED:20220321T213824Z
UID:4014-1647734400-1647820799@glosoutdoor.co.uk
SUMMARY:Day walk: Chavanage 8.5 miles
DESCRIPTION:Starting near Chavanage House\, from there we’ll head north west near to Ruskin Mill and then through Horsley to circle back. There will be some steep hills on this walk but plenty of flat sections too
URL:https://glosoutdoor.co.uk/event/day-walk-chavanage-8-5-miles/
CATEGORIES:Activities
END:VEVENT
BEGIN:VEVENT
DTSTART;VALUE=DATE:20220313
DTEND;VALUE=DATE:20220314
DTSTAMP:20260425T163837
CREATED:20220209T214939Z
LAST-MODIFIED:20220321T213841Z
UID:4012-1647129600-1647215999@glosoutdoor.co.uk
SUMMARY:Day walk: Painswick10 miles
DESCRIPTION:A ten mile circular taking in the glorious views of the valleys and hills around Painswick
URL:https://glosoutdoor.co.uk/event/day-walk-painswick-10-miles/
CATEGORIES:Activities
END:VEVENT
BEGIN:VEVENT
DTSTART;VALUE=DATE:20220306
DTEND;VALUE=DATE:20220307
DTSTAMP:20260425T163837
CREATED:20220209T214744Z
LAST-MODIFIED:20220321T213915Z
UID:4008-1646524800-1646611199@glosoutdoor.co.uk
SUMMARY:Day walk: North Nibley 10miles
DESCRIPTION:A 10 mile circular taking in spectacular views from Drakestone Point\, Heartbreak Hill and the Tyndale Monument. Although much of the terrain is flat\, there are two long\, steep climbs and one long descent\, providing hearty exercise!
URL:https://glosoutdoor.co.uk/event/day-walk-north-nibley-10miles/
CATEGORIES:Activities
END:VEVENT
BEGIN:VEVENT
DTSTART;VALUE=DATE:20220227
DTEND;VALUE=DATE:20220228
DTSTAMP:20260425T163837
CREATED:20220209T214633Z
LAST-MODIFIED:20220321T213937Z
UID:4006-1645920000-1646006399@glosoutdoor.co.uk
SUMMARY:Day walk: Malverns  8-10 miles
DESCRIPTION:A lovely circular walk at the northern end of the Malverns around North Hill and Cradley Brook. The walk might include the Worcestershire Beacon
URL:https://glosoutdoor.co.uk/event/day-walk-malverns-8-10-miles/
CATEGORIES:Activities
END:VEVENT
BEGIN:VEVENT
DTSTART;VALUE=DATE:20220217
DTEND;VALUE=DATE:20220218
DTSTAMP:20260425T163837
CREATED:20220205T121923Z
LAST-MODIFIED:20220321T213959Z
UID:355-1645056000-1645142399@glosoutdoor.co.uk
SUMMARY:Film Show
DESCRIPTION:Join us for an evening of inspiring short films as the Banff film festival comes to Cheltenham
URL:https://glosoutdoor.co.uk/event/film-show/
CATEGORIES:Activities
END:VEVENT
END:VCALENDAR