BEGIN:VCALENDAR
VERSION:2.0
PRODID:-//Gloucestershire Outdoor Walking Group - ECPv6.15.20//NONSGML v1.0//EN
CALSCALE:GREGORIAN
METHOD:PUBLISH
X-WR-CALNAME:Gloucestershire Outdoor Walking Group
X-ORIGINAL-URL:https://glosoutdoor.co.uk
X-WR-CALDESC:Events for Gloucestershire Outdoor Walking Group
REFRESH-INTERVAL;VALUE=DURATION:PT1H
X-Robots-Tag:noindex
X-PUBLISHED-TTL:PT1H
BEGIN:VTIMEZONE
TZID:Europe/London
BEGIN:DAYLIGHT
TZOFFSETFROM:+0000
TZOFFSETTO:+0100
TZNAME:BST
DTSTART:20210328T010000
END:DAYLIGHT
BEGIN:STANDARD
TZOFFSETFROM:+0100
TZOFFSETTO:+0000
TZNAME:GMT
DTSTART:20211031T010000
END:STANDARD
BEGIN:DAYLIGHT
TZOFFSETFROM:+0000
TZOFFSETTO:+0100
TZNAME:BST
DTSTART:20220327T010000
END:DAYLIGHT
BEGIN:STANDARD
TZOFFSETFROM:+0100
TZOFFSETTO:+0000
TZNAME:GMT
DTSTART:20221030T010000
END:STANDARD
BEGIN:DAYLIGHT
TZOFFSETFROM:+0000
TZOFFSETTO:+0100
TZNAME:BST
DTSTART:20230326T010000
END:DAYLIGHT
BEGIN:STANDARD
TZOFFSETFROM:+0100
TZOFFSETTO:+0000
TZNAME:GMT
DTSTART:20231029T010000
END:STANDARD
END:VTIMEZONE
BEGIN:VEVENT
DTSTART;VALUE=DATE:20220327
DTEND;VALUE=DATE:20220328
DTSTAMP:20260425T165126
CREATED:20220209T215233Z
LAST-MODIFIED:20220321T213727Z
UID:4018-1648339200-1648425599@glosoutdoor.co.uk
SUMMARY:Day walk: Slad & Thorougham 13miles
DESCRIPTION:An up-and-down beautiful walk in a variety of terrain and including woodland\, remote valleys\, hidden footpaths\, remnants of a neolithic burial chamber\, streams\, and a good chance of spotting wildlife including deer.
URL:https://glosoutdoor.co.uk/event/day-walk-slad-thorougham-13miles/
CATEGORIES:Activities
END:VEVENT
BEGIN:VEVENT
DTSTART;VALUE=DATE:20220322
DTEND;VALUE=DATE:20220323
DTSTAMP:20260425T165126
CREATED:20220209T215153Z
LAST-MODIFIED:20220321T213751Z
UID:4016-1647907200-1647993599@glosoutdoor.co.uk
SUMMARY:Morning walk: Bisley 5miles
DESCRIPTION:Walk around Bisley village passing the church and the old washing wells\, walking down the valley to Hawkley Wood and Helen’s Wood\, returning via Copsegrove Covert
URL:https://glosoutdoor.co.uk/event/morning-walk-bisley-5miles/
CATEGORIES:Activities
END:VEVENT
BEGIN:VEVENT
DTSTART;VALUE=DATE:20220321
DTEND;VALUE=DATE:20220322
DTSTAMP:20260425T165126
CREATED:20220321T211757Z
LAST-MODIFIED:20220321T213040Z
UID:4084-1647820800-1647907199@glosoutdoor.co.uk
SUMMARY:Morning walk: Coaley Peak 4.5 miles
DESCRIPTION:The walk goes through to Nympsfield then through Toney Woods where hopefully the bluebells will be out. Heading back to Coaley Peak\, after following some of the Cotswold Way\, there is a bit of a climb on the way back.
URL:https://glosoutdoor.co.uk/event/morning-walk-coaley-peak-4-5-miles/
CATEGORIES:Activities
END:VEVENT
BEGIN:VEVENT
DTSTART;VALUE=DATE:20220320
DTEND;VALUE=DATE:20220321
DTSTAMP:20260425T165126
CREATED:20220209T215102Z
LAST-MODIFIED:20220321T213824Z
UID:4014-1647734400-1647820799@glosoutdoor.co.uk
SUMMARY:Day walk: Chavanage 8.5 miles
DESCRIPTION:Starting near Chavanage House\, from there we’ll head north west near to Ruskin Mill and then through Horsley to circle back. There will be some steep hills on this walk but plenty of flat sections too
URL:https://glosoutdoor.co.uk/event/day-walk-chavanage-8-5-miles/
CATEGORIES:Activities
END:VEVENT
BEGIN:VEVENT
DTSTART;VALUE=DATE:20220313
DTEND;VALUE=DATE:20220314
DTSTAMP:20260425T165126
CREATED:20220209T214939Z
LAST-MODIFIED:20220321T213841Z
UID:4012-1647129600-1647215999@glosoutdoor.co.uk
SUMMARY:Day walk: Painswick10 miles
DESCRIPTION:A ten mile circular taking in the glorious views of the valleys and hills around Painswick
URL:https://glosoutdoor.co.uk/event/day-walk-painswick-10-miles/
CATEGORIES:Activities
END:VEVENT
BEGIN:VEVENT
DTSTART;VALUE=DATE:20220306
DTEND;VALUE=DATE:20220307
DTSTAMP:20260425T165126
CREATED:20220209T214744Z
LAST-MODIFIED:20220321T213915Z
UID:4008-1646524800-1646611199@glosoutdoor.co.uk
SUMMARY:Day walk: North Nibley 10miles
DESCRIPTION:A 10 mile circular taking in spectacular views from Drakestone Point\, Heartbreak Hill and the Tyndale Monument. Although much of the terrain is flat\, there are two long\, steep climbs and one long descent\, providing hearty exercise!
URL:https://glosoutdoor.co.uk/event/day-walk-north-nibley-10miles/
CATEGORIES:Activities
END:VEVENT
BEGIN:VEVENT
DTSTART;VALUE=DATE:20220227
DTEND;VALUE=DATE:20220228
DTSTAMP:20260425T165126
CREATED:20220209T214633Z
LAST-MODIFIED:20220321T213937Z
UID:4006-1645920000-1646006399@glosoutdoor.co.uk
SUMMARY:Day walk: Malverns  8-10 miles
DESCRIPTION:A lovely circular walk at the northern end of the Malverns around North Hill and Cradley Brook. The walk might include the Worcestershire Beacon
URL:https://glosoutdoor.co.uk/event/day-walk-malverns-8-10-miles/
CATEGORIES:Activities
END:VEVENT
BEGIN:VEVENT
DTSTART;VALUE=DATE:20220217
DTEND;VALUE=DATE:20220218
DTSTAMP:20260425T165126
CREATED:20220205T121923Z
LAST-MODIFIED:20220321T213959Z
UID:355-1645056000-1645142399@glosoutdoor.co.uk
SUMMARY:Film Show
DESCRIPTION:Join us for an evening of inspiring short films as the Banff film festival comes to Cheltenham
URL:https://glosoutdoor.co.uk/event/film-show/
CATEGORIES:Activities
END:VEVENT
END:VCALENDAR