BEGIN:VCALENDAR
VERSION:2.0
PRODID:-//Gloucestershire Outdoor Walking Group - ECPv6.15.20//NONSGML v1.0//EN
CALSCALE:GREGORIAN
METHOD:PUBLISH
X-WR-CALNAME:Gloucestershire Outdoor Walking Group
X-ORIGINAL-URL:https://glosoutdoor.co.uk
X-WR-CALDESC:Events for Gloucestershire Outdoor Walking Group
REFRESH-INTERVAL;VALUE=DURATION:PT1H
X-Robots-Tag:noindex
X-PUBLISHED-TTL:PT1H
BEGIN:VTIMEZONE
TZID:Europe/London
BEGIN:DAYLIGHT
TZOFFSETFROM:+0000
TZOFFSETTO:+0100
TZNAME:BST
DTSTART:20230326T010000
END:DAYLIGHT
BEGIN:STANDARD
TZOFFSETFROM:+0100
TZOFFSETTO:+0000
TZNAME:GMT
DTSTART:20231029T010000
END:STANDARD
BEGIN:DAYLIGHT
TZOFFSETFROM:+0000
TZOFFSETTO:+0100
TZNAME:BST
DTSTART:20240331T010000
END:DAYLIGHT
BEGIN:STANDARD
TZOFFSETFROM:+0100
TZOFFSETTO:+0000
TZNAME:GMT
DTSTART:20241027T010000
END:STANDARD
BEGIN:DAYLIGHT
TZOFFSETFROM:+0000
TZOFFSETTO:+0100
TZNAME:BST
DTSTART:20250330T010000
END:DAYLIGHT
BEGIN:STANDARD
TZOFFSETFROM:+0100
TZOFFSETTO:+0000
TZNAME:GMT
DTSTART:20251026T010000
END:STANDARD
BEGIN:DAYLIGHT
TZOFFSETFROM:+0000
TZOFFSETTO:+0100
TZNAME:BST
DTSTART:20260329T010000
END:DAYLIGHT
BEGIN:STANDARD
TZOFFSETFROM:+0100
TZOFFSETTO:+0000
TZNAME:GMT
DTSTART:20261025T010000
END:STANDARD
END:VTIMEZONE
BEGIN:VEVENT
DTSTART;VALUE=DATE:20250404
DTEND;VALUE=DATE:20250412
DTSTAMP:20260422T023734
CREATED:20250402T211545Z
LAST-MODIFIED:20250402T211545Z
UID:4835-1743724800-1744415999@glosoutdoor.co.uk
SUMMARY:Week away - Exmoor
DESCRIPTION:The group has found the perfect cottage on Exmoor. Looking forwards to lots of walking from the front door\, cakes and good compnay
URL:https://glosoutdoor.co.uk/event/week-away-exmoor/
CATEGORIES:Activities
END:VEVENT
BEGIN:VEVENT
DTSTART;VALUE=DATE:20250403
DTEND;VALUE=DATE:20250404
DTSTAMP:20260422T023734
CREATED:20250402T211353Z
LAST-MODIFIED:20250402T211353Z
UID:4833-1743638400-1743724799@glosoutdoor.co.uk
SUMMARY:Evening Meal - Pizza
DESCRIPTION:
URL:https://glosoutdoor.co.uk/event/evening-meal-pizza/
CATEGORIES:Activities
END:VEVENT
BEGIN:VEVENT
DTSTART;VALUE=DATE:20250323
DTEND;VALUE=DATE:20250324
DTSTAMP:20260422T023734
CREATED:20241222T204350Z
LAST-MODIFIED:20241222T204350Z
UID:4825-1742688000-1742774399@glosoutdoor.co.uk
SUMMARY:Day Walk - Wild Worcester
DESCRIPTION:A 12 mile way-marked route around Worcester launched in May 2023 which links together 15 wonderful green spaces that provide a wildlife corridor around the city.
URL:https://glosoutdoor.co.uk/event/day-walk-wild-worcester/
CATEGORIES:Activities
END:VEVENT
BEGIN:VEVENT
DTSTART;VALUE=DATE:20250320
DTEND;VALUE=DATE:20250321
DTSTAMP:20260422T023734
CREATED:20241222T203251Z
LAST-MODIFIED:20250107T222430Z
UID:4807-1742428800-1742515199@glosoutdoor.co.uk
SUMMARY:Morning walk - Robinswood Hill
DESCRIPTION:We will explore the hill with Emma as our guide\, taking in the stunning views from the top and also the sculpture trail (Did you know there was a sculpture trail?) and golf course (no time for a round though!) There is a cafe at the car park and toilets so fingers crossed its open today. Bring refreshments in case
URL:https://glosoutdoor.co.uk/event/morning-walk-robinswood-hill/
CATEGORIES:Activities
END:VEVENT
BEGIN:VEVENT
DTSTART;VALUE=DATE:20250319
DTEND;VALUE=DATE:20250320
DTSTAMP:20260422T023734
CREATED:20241222T204300Z
LAST-MODIFIED:20241222T204300Z
UID:4823-1742342400-1742428799@glosoutdoor.co.uk
SUMMARY:Film evening
DESCRIPTION:Get ready for an unforgettable evening of thrilling adventure on the big screen! \nThe Banff Mountain Film Festival is back in Cheltenham with a brand-new line-up of captivating short films packed with extreme and stunning cinematography. Join the world’s top outdoor film-makers and adventurers as they climb\, ski\, paddle\, run and ride through the wildest corners of the planet! A guaranteed exhilarating experience\, without having to dig out any camping gear!
URL:https://glosoutdoor.co.uk/event/film-evening/
CATEGORIES:Activities
END:VEVENT
BEGIN:VEVENT
DTSTART;VALUE=DATE:20250316
DTEND;VALUE=DATE:20250317
DTSTAMP:20260422T023734
CREATED:20241222T204004Z
LAST-MODIFIED:20241222T204004Z
UID:4821-1742083200-1742169599@glosoutdoor.co.uk
SUMMARY:Day walk - Wye valley walk
DESCRIPTION:The walk today follows the river at first to Kerne Bridge\, and then moves away from the river\, with some climbing through woodland. A very steep climb at the end over the top of Chase Hill\, is followed by a descent on the other side into Ross.
URL:https://glosoutdoor.co.uk/event/day-walk-wye-valley-walk/
CATEGORIES:Activities
END:VEVENT
BEGIN:VEVENT
DTSTART;VALUE=DATE:20250309
DTEND;VALUE=DATE:20250310
DTSTAMP:20260422T023734
CREATED:20241222T203853Z
LAST-MODIFIED:20241222T203853Z
UID:4819-1741478400-1741564799@glosoutdoor.co.uk
SUMMARY:Day walk - Painswick 7.5 miles
DESCRIPTION:Heading first down the valley from Painswick\, we will make our way over through Edge\, enjoying extensive views and taking in 7 farms\, before pursuing a route back via Painswick Beacon
URL:https://glosoutdoor.co.uk/event/day-walk-painswick-7-5-miles/
CATEGORIES:Activities
END:VEVENT
BEGIN:VEVENT
DTSTART;VALUE=DATE:20250306
DTEND;VALUE=DATE:20250307
DTSTAMP:20260422T023734
CREATED:20241222T203758Z
LAST-MODIFIED:20241222T203758Z
UID:4817-1741219200-1741305599@glosoutdoor.co.uk
SUMMARY:Morning walk - Winchcombe 7.25 miles
DESCRIPTION:Lovely circuit with a steep climb up early on. The route takes us over to Farmcote and then down to Hailes with the option of refreshments at the wonderful Hayles Fruit Farm cafe.
URL:https://glosoutdoor.co.uk/event/morning-walk-winchcombe-7-25-miles/
CATEGORIES:Activities
END:VEVENT
BEGIN:VEVENT
DTSTART;VALUE=DATE:20250302
DTEND;VALUE=DATE:20250303
DTSTAMP:20260422T023734
CREATED:20241222T203647Z
LAST-MODIFIED:20241222T203647Z
UID:4815-1740873600-1740959999@glosoutdoor.co.uk
SUMMARY:Day walk - Selsey Common 8 - 9 miles
DESCRIPTION:There are some fantastic views over the Severn valley from the common but before that the route drops down to Woodchester before a gentle ascent through Woodchester Park\, through Nympsfield to pick up the Cotswold way back to the star
URL:https://glosoutdoor.co.uk/event/day-walk-selsey-common-8-9-miles/
CATEGORIES:Activities
END:VEVENT
BEGIN:VEVENT
DTSTART;VALUE=DATE:20250227
DTEND;VALUE=DATE:20250228
DTSTAMP:20260422T023734
CREATED:20241222T203527Z
LAST-MODIFIED:20241222T203527Z
UID:4813-1740614400-1740700799@glosoutdoor.co.uk
SUMMARY:Pub quiz evening
DESCRIPTION:Did you watch Strictly? Can you name a Romantic Poet! Have you listened to Ed Sheran lately or watched the news? Perfect! No? No problem. Just come along and add your knowledge to a team. Food available at the pub\,
URL:https://glosoutdoor.co.uk/event/pub-quiz-evening/
CATEGORIES:Activities
END:VEVENT
BEGIN:VEVENT
DTSTART;VALUE=DATE:20250223
DTEND;VALUE=DATE:20250224
DTSTAMP:20260422T023734
CREATED:20241222T203444Z
LAST-MODIFIED:20241222T203444Z
UID:4811-1740268800-1740355199@glosoutdoor.co.uk
SUMMARY:Day walk - Donnington way 9.5 miles
DESCRIPTION:It’s time for leg 5 of this epic adventure where we discover the county’s Donnington Pubs. No worries if you weren’t there at the start. its a good walk. This section is from the Plough Inn at Ford to Broadway (Not NY city\, but Gloucestershire!).
URL:https://glosoutdoor.co.uk/event/day-walk-donnington-way-9-5-miles/
CATEGORIES:Activities
END:VEVENT
BEGIN:VEVENT
DTSTART;VALUE=DATE:20250220
DTEND;VALUE=DATE:20250221
DTSTAMP:20260422T023734
CREATED:20241222T203339Z
LAST-MODIFIED:20241222T203339Z
UID:4809-1740009600-1740095999@glosoutdoor.co.uk
SUMMARY:Planning Evening
DESCRIPTION:Get ideas ready to bring for this evening or message in before the day. Planning will be for the months April-July so think sunny evenings\, possibly further distances for walks and who knows…even camping weekends
URL:https://glosoutdoor.co.uk/event/planning-evening/
CATEGORIES:Activities
END:VEVENT
BEGIN:VEVENT
DTSTART;VALUE=DATE:20250216
DTEND;VALUE=DATE:20250217
DTSTAMP:20260422T023734
CREATED:20250107T222548Z
LAST-MODIFIED:20250107T222548Z
UID:4830-1739664000-1739750399@glosoutdoor.co.uk
SUMMARY:Day walk - Ebworth 6 miles
DESCRIPTION:Overtown Farm\, Workman’s Wood\, Far End\, Lord’s Wood\, Saltridge Wood and back to Ebworth.  A varied undulating walk through beech woods with occasional views.
URL:https://glosoutdoor.co.uk/event/day-walk-ebworth-6-miles/
CATEGORIES:Activities
END:VEVENT
BEGIN:VEVENT
DTSTART;VALUE=DATE:20250213
DTEND;VALUE=DATE:20250214
DTSTAMP:20260422T023734
CREATED:20241222T203155Z
LAST-MODIFIED:20241222T203155Z
UID:4805-1739404800-1739491199@glosoutdoor.co.uk
SUMMARY:Morning Walk - Prinknash Abbey/ Holcombe 6.5miles
DESCRIPTION:This lovely 6.5 miler takes in Painswick Beacon\, Spoonbed Farm\, Holcombe House (once a wool merchants)\, Kimsbury Hill Fort and Prinknash Park. Mainly good paths a few stiles.
URL:https://glosoutdoor.co.uk/event/morning-walk-prinknash-abbey-holcombe-6-5miles/
CATEGORIES:Activities
END:VEVENT
BEGIN:VEVENT
DTSTART;VALUE=DATE:20250209
DTEND;VALUE=DATE:20250210
DTSTAMP:20260422T023734
CREATED:20241222T203040Z
LAST-MODIFIED:20241222T203040Z
UID:4803-1739059200-1739145599@glosoutdoor.co.uk
SUMMARY:Day walk - Tetbury and Shipton Moyne  7.5 miles
DESCRIPTION:Lovely varied countryside walk via Shipton Mill & Fosse Way to Shipton Moyne\, returning to Tetbury via the beautiful parkland of the Estcourt estate
URL:https://glosoutdoor.co.uk/event/day-walk-tetbury-and-shipton-moyne-7-5-miles/
CATEGORIES:Activities
END:VEVENT
BEGIN:VEVENT
DTSTART;VALUE=DATE:20250202
DTEND;VALUE=DATE:20250203
DTSTAMP:20260422T023734
CREATED:20241128T202253Z
LAST-MODIFIED:20250107T222741Z
UID:4772-1738454400-1738540799@glosoutdoor.co.uk
SUMMARY:Day walk Witcombe and the Roman Villa
DESCRIPTION:A bracing walk with some spectacular views at this time of year. Approximately 7 miles starting at Little Witcombe with a warming climb up the side of the Cotswold escarpment to The Peak and then on towards Birdlip Village. We then join the Cotswold Way to head around the edge of the escarpment overlooking the reservoir at Great Witcombe with some fine views\, then work our way down towards the site of the Roman Villa.
URL:https://glosoutdoor.co.uk/event/day-walk-witcombe-and-the-roman-villa/
CATEGORIES:Activities
END:VEVENT
BEGIN:VEVENT
DTSTART;VALUE=DATE:20250129
DTEND;VALUE=DATE:20250130
DTSTAMP:20260422T023734
CREATED:20241222T202929Z
LAST-MODIFIED:20241222T202947Z
UID:4801-1738108800-1738195199@glosoutdoor.co.uk
SUMMARY:Chinese New Year meal
DESCRIPTION:It’s the Chinese year of the snake\, so an excuse to go out and celebrate with a Chinese buffet.
URL:https://glosoutdoor.co.uk/event/chinese-new-year-meal/
CATEGORIES:Activities
END:VEVENT
BEGIN:VEVENT
DTSTART;VALUE=DATE:20250125
DTEND;VALUE=DATE:20250201
DTSTAMP:20260422T023734
CREATED:20241222T202807Z
LAST-MODIFIED:20241222T202807Z
UID:4799-1737763200-1738367999@glosoutdoor.co.uk
SUMMARY:Weekend / Week in Shropshire
DESCRIPTION:It’s become a bit of a tradition to head for the Shropshire Hills this time of year\, settle into a cottage and enjoy the chance for some fresh air and good company
URL:https://glosoutdoor.co.uk/event/weekend-week-in-shropshire/
CATEGORIES:Activities
END:VEVENT
BEGIN:VEVENT
DTSTART;VALUE=DATE:20250123
DTEND;VALUE=DATE:20250124
DTSTAMP:20260422T023734
CREATED:20241222T202716Z
LAST-MODIFIED:20241222T202716Z
UID:4797-1737590400-1737676799@glosoutdoor.co.uk
SUMMARY:Games Evening
DESCRIPTION:Join in a board game evening (bring along your favourite or take a chance with the host’s collection). Perhaps also Shove Ha’penny.
URL:https://glosoutdoor.co.uk/event/games-evening/
CATEGORIES:Activities
END:VEVENT
BEGIN:VEVENT
DTSTART;VALUE=DATE:20250119
DTEND;VALUE=DATE:20250120
DTSTAMP:20260422T023734
CREATED:20241222T202601Z
LAST-MODIFIED:20241222T202601Z
UID:4795-1737244800-1737331199@glosoutdoor.co.uk
SUMMARY:Day walk - West Malverns
DESCRIPTION:An elevated walk on the Malverns ridge\, starting from the west side at Colwall\, climbing up\, and walking along the top to Worcestershire Beacon. We will descend back down and return via West Malvern and Mathon
URL:https://glosoutdoor.co.uk/event/day-walk-west-malverns/
CATEGORIES:Activities
END:VEVENT
BEGIN:VEVENT
DTSTART;VALUE=DATE:20250115
DTEND;VALUE=DATE:20250116
DTSTAMP:20260422T023734
CREATED:20241222T202507Z
LAST-MODIFIED:20241222T202507Z
UID:4793-1736899200-1736985599@glosoutdoor.co.uk
SUMMARY:Day walk - Guiting Power 8 miles
DESCRIPTION:A lovely loop from Guiting Power\, taking in Kineton\, Temple Guiting and Guiting Wood. Bring lunch etc. It may be open for a coffee if there early or for a refreshment at the end
URL:https://glosoutdoor.co.uk/event/day-walk-guiting-power-8-miles/
CATEGORIES:Activities
END:VEVENT
BEGIN:VEVENT
DTSTART;VALUE=DATE:20250112
DTEND;VALUE=DATE:20250113
DTSTAMP:20260422T023734
CREATED:20241128T202430Z
LAST-MODIFIED:20241128T202430Z
UID:4774-1736640000-1736726399@glosoutdoor.co.uk
SUMMARY:Day walk - Coln St Aldwyn and Ablingdon
DESCRIPTION:We will follow the River Coln to Bibury & then onto Ablington\, returning via country paths.
URL:https://glosoutdoor.co.uk/event/day-walk-coln-st-aldwyn-and-ablingdon/
CATEGORIES:Activities
END:VEVENT
BEGIN:VEVENT
DTSTART;VALUE=DATE:20250102
DTEND;VALUE=DATE:20250103
DTSTAMP:20260422T023734
CREATED:20241128T202127Z
LAST-MODIFIED:20241128T202127Z
UID:4770-1735776000-1735862399@glosoutdoor.co.uk
SUMMARY:Evening New Year quiz
DESCRIPTION:Join us on a zoom call tonight for a quiz\, to see if any of us were paying attention during 2023. There were elections\, some Olympics and some other things…but can you recall them? Settle in with your favourite tipple\, turn google off so you don’t cheat
URL:https://glosoutdoor.co.uk/event/evening-new-year-quiz/
CATEGORIES:Activities
END:VEVENT
BEGIN:VEVENT
DTSTART;VALUE=DATE:20250101
DTEND;VALUE=DATE:20250102
DTSTAMP:20260422T023734
CREATED:20241128T201839Z
LAST-MODIFIED:20241128T201839Z
UID:4768-1735689600-1735775999@glosoutdoor.co.uk
SUMMARY:Day walk - Dowdeswell
DESCRIPTION:Start the new year with beautiful walk from Charlton Kings to Upper Colgate to pick up the Cotswold Way through Dowdeswell and onto Ravensgate Hill to join the Cheltenham Circular down Timbercombe.
URL:https://glosoutdoor.co.uk/event/day-walk-dowdeswell/
CATEGORIES:Activities
END:VEVENT
BEGIN:VEVENT
DTSTART;VALUE=DATE:20241221
DTEND;VALUE=DATE:20241222
DTSTAMP:20260422T023734
CREATED:20241128T201744Z
LAST-MODIFIED:20241128T201744Z
UID:4766-1734739200-1734825599@glosoutdoor.co.uk
SUMMARY:Mulled wine walk - Painswick
DESCRIPTION:Classic bring and share festive walk. Starting at Painswick we will amble up to cohort Wood before shooting for the Cricket Pavilion above Sheepscombe\, where we can share what we bring! Early registration appreciated to allow some attempt at coordinating the goodies.
URL:https://glosoutdoor.co.uk/event/mulled-wine-walk-painswick/
CATEGORIES:Activities
END:VEVENT
BEGIN:VEVENT
DTSTART;VALUE=DATE:20241217
DTEND;VALUE=DATE:20241218
DTSTAMP:20260422T023734
CREATED:20241128T201649Z
LAST-MODIFIED:20241128T201649Z
UID:4764-1734393600-1734479999@glosoutdoor.co.uk
SUMMARY:Green Dragon 5miles Cotswold Warden Walk
DESCRIPTION:A pleasant walk from the Green Dragon\, with a Cotswold warden\, with splendid views – once you’re up the hill
URL:https://glosoutdoor.co.uk/event/green-dragon-5miles-cotswold-warden-walk/
CATEGORIES:Activities
END:VEVENT
BEGIN:VEVENT
DTSTART;VALUE=DATE:20241215
DTEND;VALUE=DATE:20241216
DTSTAMP:20260422T023734
CREATED:20241128T201555Z
LAST-MODIFIED:20241128T201555Z
UID:4762-1734220800-1734307199@glosoutdoor.co.uk
SUMMARY:Day walk Purples Hill\, Forest of Dean 7.5 miles
DESCRIPTION:We will head us south towards Parkend before swinging up and around Nagshead Plantation. We then stride up towards Purple Hill and then back past Cannop Lakes.
URL:https://glosoutdoor.co.uk/event/day-walk-purples-hill-forest-of-dean-7-5-miles/
CATEGORIES:Activities
END:VEVENT
BEGIN:VEVENT
DTSTART;VALUE=DATE:20241212
DTEND;VALUE=DATE:20241213
DTSTAMP:20260422T023734
CREATED:20241128T201455Z
LAST-MODIFIED:20241128T201455Z
UID:4760-1733961600-1734047999@glosoutdoor.co.uk
SUMMARY:Evening Quiz at the Brown Jug\, Cheltenham
DESCRIPTION:It may well be worth learning the names of the reindeers in time for tonight! Come and help make up some teams and have a fun evening in the run up to Christmas! Food available at the pub\,
URL:https://glosoutdoor.co.uk/event/evening-quiz-at-the-brown-jug-cheltenham/
CATEGORIES:Activities
END:VEVENT
BEGIN:VEVENT
DTSTART;VALUE=DATE:20241211
DTEND;VALUE=DATE:20241212
DTSTAMP:20260422T023734
CREATED:20241128T201356Z
LAST-MODIFIED:20241128T201356Z
UID:4758-1733875200-1733961599@glosoutdoor.co.uk
SUMMARY:Day walk - Brimscombe 5.5 miles Cotswold Warden walk
DESCRIPTION:Joining up with a Cotswold warden on one of their jaunts\, the walk will take us along the Golden Valley to St Mary’s Mill\, climb up to Hyde then on to Minchinhampton village and common\, the lanes of Swells Hill to Stroud Brewery and the canal to Brimscombe.
URL:https://glosoutdoor.co.uk/event/day-walk-brimscombe-5-5-miles-cotswold-warden-walk/
CATEGORIES:Activities
END:VEVENT
BEGIN:VEVENT
DTSTART;VALUE=DATE:20241208
DTEND;VALUE=DATE:20241209
DTSTAMP:20260422T023734
CREATED:20241128T201239Z
LAST-MODIFIED:20241128T201239Z
UID:4756-1733616000-1733702399@glosoutdoor.co.uk
SUMMARY:Day walk - Sculpture Trail\, Forest of Dean 5 miles
DESCRIPTION:Enjoy a chance to take in the art of the Sculpture trail . New sculptures have been added to collection and to do the walk is free.
URL:https://glosoutdoor.co.uk/event/day-walk-sculpture-trail-forest-of-dean-5-miles/
END:VEVENT
END:VCALENDAR