BEGIN:VCALENDAR
VERSION:2.0
PRODID:-//Gloucestershire Outdoor Walking Group - ECPv6.15.20//NONSGML v1.0//EN
CALSCALE:GREGORIAN
METHOD:PUBLISH
X-WR-CALNAME:Gloucestershire Outdoor Walking Group
X-ORIGINAL-URL:https://glosoutdoor.co.uk
X-WR-CALDESC:Events for Gloucestershire Outdoor Walking Group
REFRESH-INTERVAL;VALUE=DURATION:PT1H
X-Robots-Tag:noindex
X-PUBLISHED-TTL:PT1H
BEGIN:VTIMEZONE
TZID:Europe/London
BEGIN:DAYLIGHT
TZOFFSETFROM:+0000
TZOFFSETTO:+0100
TZNAME:BST
DTSTART:20230326T010000
END:DAYLIGHT
BEGIN:STANDARD
TZOFFSETFROM:+0100
TZOFFSETTO:+0000
TZNAME:GMT
DTSTART:20231029T010000
END:STANDARD
BEGIN:DAYLIGHT
TZOFFSETFROM:+0000
TZOFFSETTO:+0100
TZNAME:BST
DTSTART:20240331T010000
END:DAYLIGHT
BEGIN:STANDARD
TZOFFSETFROM:+0100
TZOFFSETTO:+0000
TZNAME:GMT
DTSTART:20241027T010000
END:STANDARD
BEGIN:DAYLIGHT
TZOFFSETFROM:+0000
TZOFFSETTO:+0100
TZNAME:BST
DTSTART:20250330T010000
END:DAYLIGHT
BEGIN:STANDARD
TZOFFSETFROM:+0100
TZOFFSETTO:+0000
TZNAME:GMT
DTSTART:20251026T010000
END:STANDARD
BEGIN:DAYLIGHT
TZOFFSETFROM:+0000
TZOFFSETTO:+0100
TZNAME:BST
DTSTART:20260329T010000
END:DAYLIGHT
BEGIN:STANDARD
TZOFFSETFROM:+0100
TZOFFSETTO:+0000
TZNAME:GMT
DTSTART:20261025T010000
END:STANDARD
END:VTIMEZONE
BEGIN:VEVENT
DTSTART;VALUE=DATE:20250123
DTEND;VALUE=DATE:20250124
DTSTAMP:20260422T085331
CREATED:20241222T202716Z
LAST-MODIFIED:20241222T202716Z
UID:4797-1737590400-1737676799@glosoutdoor.co.uk
SUMMARY:Games Evening
DESCRIPTION:Join in a board game evening (bring along your favourite or take a chance with the host’s collection). Perhaps also Shove Ha’penny.
URL:https://glosoutdoor.co.uk/event/games-evening/
CATEGORIES:Activities
END:VEVENT
BEGIN:VEVENT
DTSTART;VALUE=DATE:20250119
DTEND;VALUE=DATE:20250120
DTSTAMP:20260422T085331
CREATED:20241222T202601Z
LAST-MODIFIED:20241222T202601Z
UID:4795-1737244800-1737331199@glosoutdoor.co.uk
SUMMARY:Day walk - West Malverns
DESCRIPTION:An elevated walk on the Malverns ridge\, starting from the west side at Colwall\, climbing up\, and walking along the top to Worcestershire Beacon. We will descend back down and return via West Malvern and Mathon
URL:https://glosoutdoor.co.uk/event/day-walk-west-malverns/
CATEGORIES:Activities
END:VEVENT
BEGIN:VEVENT
DTSTART;VALUE=DATE:20250115
DTEND;VALUE=DATE:20250116
DTSTAMP:20260422T085331
CREATED:20241222T202507Z
LAST-MODIFIED:20241222T202507Z
UID:4793-1736899200-1736985599@glosoutdoor.co.uk
SUMMARY:Day walk - Guiting Power 8 miles
DESCRIPTION:A lovely loop from Guiting Power\, taking in Kineton\, Temple Guiting and Guiting Wood. Bring lunch etc. It may be open for a coffee if there early or for a refreshment at the end
URL:https://glosoutdoor.co.uk/event/day-walk-guiting-power-8-miles/
CATEGORIES:Activities
END:VEVENT
BEGIN:VEVENT
DTSTART;VALUE=DATE:20250112
DTEND;VALUE=DATE:20250113
DTSTAMP:20260422T085331
CREATED:20241128T202430Z
LAST-MODIFIED:20241128T202430Z
UID:4774-1736640000-1736726399@glosoutdoor.co.uk
SUMMARY:Day walk - Coln St Aldwyn and Ablingdon
DESCRIPTION:We will follow the River Coln to Bibury & then onto Ablington\, returning via country paths.
URL:https://glosoutdoor.co.uk/event/day-walk-coln-st-aldwyn-and-ablingdon/
CATEGORIES:Activities
END:VEVENT
BEGIN:VEVENT
DTSTART;VALUE=DATE:20250102
DTEND;VALUE=DATE:20250103
DTSTAMP:20260422T085331
CREATED:20241128T202127Z
LAST-MODIFIED:20241128T202127Z
UID:4770-1735776000-1735862399@glosoutdoor.co.uk
SUMMARY:Evening New Year quiz
DESCRIPTION:Join us on a zoom call tonight for a quiz\, to see if any of us were paying attention during 2023. There were elections\, some Olympics and some other things…but can you recall them? Settle in with your favourite tipple\, turn google off so you don’t cheat
URL:https://glosoutdoor.co.uk/event/evening-new-year-quiz/
CATEGORIES:Activities
END:VEVENT
BEGIN:VEVENT
DTSTART;VALUE=DATE:20250101
DTEND;VALUE=DATE:20250102
DTSTAMP:20260422T085331
CREATED:20241128T201839Z
LAST-MODIFIED:20241128T201839Z
UID:4768-1735689600-1735775999@glosoutdoor.co.uk
SUMMARY:Day walk - Dowdeswell
DESCRIPTION:Start the new year with beautiful walk from Charlton Kings to Upper Colgate to pick up the Cotswold Way through Dowdeswell and onto Ravensgate Hill to join the Cheltenham Circular down Timbercombe.
URL:https://glosoutdoor.co.uk/event/day-walk-dowdeswell/
CATEGORIES:Activities
END:VEVENT
BEGIN:VEVENT
DTSTART;VALUE=DATE:20241221
DTEND;VALUE=DATE:20241222
DTSTAMP:20260422T085331
CREATED:20241128T201744Z
LAST-MODIFIED:20241128T201744Z
UID:4766-1734739200-1734825599@glosoutdoor.co.uk
SUMMARY:Mulled wine walk - Painswick
DESCRIPTION:Classic bring and share festive walk. Starting at Painswick we will amble up to cohort Wood before shooting for the Cricket Pavilion above Sheepscombe\, where we can share what we bring! Early registration appreciated to allow some attempt at coordinating the goodies.
URL:https://glosoutdoor.co.uk/event/mulled-wine-walk-painswick/
CATEGORIES:Activities
END:VEVENT
BEGIN:VEVENT
DTSTART;VALUE=DATE:20241217
DTEND;VALUE=DATE:20241218
DTSTAMP:20260422T085331
CREATED:20241128T201649Z
LAST-MODIFIED:20241128T201649Z
UID:4764-1734393600-1734479999@glosoutdoor.co.uk
SUMMARY:Green Dragon 5miles Cotswold Warden Walk
DESCRIPTION:A pleasant walk from the Green Dragon\, with a Cotswold warden\, with splendid views – once you’re up the hill
URL:https://glosoutdoor.co.uk/event/green-dragon-5miles-cotswold-warden-walk/
CATEGORIES:Activities
END:VEVENT
BEGIN:VEVENT
DTSTART;VALUE=DATE:20241215
DTEND;VALUE=DATE:20241216
DTSTAMP:20260422T085331
CREATED:20241128T201555Z
LAST-MODIFIED:20241128T201555Z
UID:4762-1734220800-1734307199@glosoutdoor.co.uk
SUMMARY:Day walk Purples Hill\, Forest of Dean 7.5 miles
DESCRIPTION:We will head us south towards Parkend before swinging up and around Nagshead Plantation. We then stride up towards Purple Hill and then back past Cannop Lakes.
URL:https://glosoutdoor.co.uk/event/day-walk-purples-hill-forest-of-dean-7-5-miles/
CATEGORIES:Activities
END:VEVENT
BEGIN:VEVENT
DTSTART;VALUE=DATE:20241212
DTEND;VALUE=DATE:20241213
DTSTAMP:20260422T085331
CREATED:20241128T201455Z
LAST-MODIFIED:20241128T201455Z
UID:4760-1733961600-1734047999@glosoutdoor.co.uk
SUMMARY:Evening Quiz at the Brown Jug\, Cheltenham
DESCRIPTION:It may well be worth learning the names of the reindeers in time for tonight! Come and help make up some teams and have a fun evening in the run up to Christmas! Food available at the pub\,
URL:https://glosoutdoor.co.uk/event/evening-quiz-at-the-brown-jug-cheltenham/
CATEGORIES:Activities
END:VEVENT
BEGIN:VEVENT
DTSTART;VALUE=DATE:20241211
DTEND;VALUE=DATE:20241212
DTSTAMP:20260422T085331
CREATED:20241128T201356Z
LAST-MODIFIED:20241128T201356Z
UID:4758-1733875200-1733961599@glosoutdoor.co.uk
SUMMARY:Day walk - Brimscombe 5.5 miles Cotswold Warden walk
DESCRIPTION:Joining up with a Cotswold warden on one of their jaunts\, the walk will take us along the Golden Valley to St Mary’s Mill\, climb up to Hyde then on to Minchinhampton village and common\, the lanes of Swells Hill to Stroud Brewery and the canal to Brimscombe.
URL:https://glosoutdoor.co.uk/event/day-walk-brimscombe-5-5-miles-cotswold-warden-walk/
CATEGORIES:Activities
END:VEVENT
BEGIN:VEVENT
DTSTART;VALUE=DATE:20241208
DTEND;VALUE=DATE:20241209
DTSTAMP:20260422T085331
CREATED:20241128T201239Z
LAST-MODIFIED:20241128T201239Z
UID:4756-1733616000-1733702399@glosoutdoor.co.uk
SUMMARY:Day walk - Sculpture Trail\, Forest of Dean 5 miles
DESCRIPTION:Enjoy a chance to take in the art of the Sculpture trail . New sculptures have been added to collection and to do the walk is free.
URL:https://glosoutdoor.co.uk/event/day-walk-sculpture-trail-forest-of-dean-5-miles/
END:VEVENT
BEGIN:VEVENT
DTSTART;VALUE=DATE:20241207
DTEND;VALUE=DATE:20241208
DTSTAMP:20260422T085331
CREATED:20241128T201111Z
LAST-MODIFIED:20241128T201111Z
UID:4752-1733529600-1733615999@glosoutdoor.co.uk
SUMMARY:Christmas meal
DESCRIPTION:
URL:https://glosoutdoor.co.uk/event/christmas-meal/
CATEGORIES:Activities
END:VEVENT
BEGIN:VEVENT
DTSTART;VALUE=DATE:20241201
DTEND;VALUE=DATE:20241202
DTSTAMP:20260422T085331
CREATED:20241128T202536Z
LAST-MODIFIED:20241222T202139Z
UID:4776-1733011200-1733097599@glosoutdoor.co.uk
SUMMARY:Day walk - Guiting Power
DESCRIPTION:A lovely loop from Guiting Power\, taking in Kineton\, Temple Guiting and Guiting Wood. Bring lunch etc.
URL:https://glosoutdoor.co.uk/event/day-walk-guiting-power/
CATEGORIES:Activities
END:VEVENT
BEGIN:VEVENT
DTSTART;VALUE=DATE:20241128
DTEND;VALUE=DATE:20241129
DTSTAMP:20260422T085331
CREATED:20241027T163738Z
LAST-MODIFIED:20241027T163738Z
UID:4749-1732752000-1732838399@glosoutdoor.co.uk
SUMMARY:Curry night
DESCRIPTION:Dreaming of an Indian Summer? No need. Join us at the Eurasia in Cheltenham for a curry night
URL:https://glosoutdoor.co.uk/event/curry-night/
CATEGORIES:Activities
END:VEVENT
BEGIN:VEVENT
DTSTART;VALUE=DATE:20241124
DTEND;VALUE=DATE:20241125
DTSTAMP:20260422T085331
CREATED:20241027T163617Z
LAST-MODIFIED:20241027T163617Z
UID:4747-1732406400-1732492799@glosoutdoor.co.uk
SUMMARY:Day Walk - Stanton\, Stanway & Snowshill  9miles
DESCRIPTION:This lovely\, circular walk is about 9 miles taking in Stanton\, Stanway\, Snowshill and Laverton. Picnic lunch at Snowshill so bring food and drink.
URL:https://glosoutdoor.co.uk/event/day-walk-stanton-stanway-snowshill-9miles/
CATEGORIES:Activities
END:VEVENT
BEGIN:VEVENT
DTSTART;VALUE=DATE:20241121
DTEND;VALUE=DATE:20241122
DTSTAMP:20260422T085331
CREATED:20241027T163453Z
LAST-MODIFIED:20241027T163453Z
UID:4745-1732147200-1732233599@glosoutdoor.co.uk
SUMMARY:Pub Quiz
DESCRIPTION:If you think being a ‘Swifty’ is something to do with bird watching…you are wrong. It doesn’ t matter though as we do the quiz for fun. Winning is an unexpected bonus (or suprise). Come and help make up some teams. Food available at the pub
URL:https://glosoutdoor.co.uk/event/pub-quiz-5/
CATEGORIES:Activities
END:VEVENT
BEGIN:VEVENT
DTSTART;VALUE=DATE:20241117
DTEND;VALUE=DATE:20241118
DTSTAMP:20260422T085331
CREATED:20241027T163340Z
LAST-MODIFIED:20241027T163340Z
UID:4743-1731801600-1731887999@glosoutdoor.co.uk
SUMMARY:Day walk Donnington way (part 4) Bourton to Ford
DESCRIPTION:So many pubs\, so little time. Another leg of this historic pub trail. Initially following the R.Windrush\, we pass through two ‘Guitings’\, Kineton and Naunton (but not in that order). Lots of potential pints enroute.
URL:https://glosoutdoor.co.uk/event/day-walk-donnington-way-part-4-bourton-to-ford/
CATEGORIES:Activities
END:VEVENT
BEGIN:VEVENT
DTSTART;VALUE=DATE:20241114
DTEND;VALUE=DATE:20241115
DTSTAMP:20260422T085331
CREATED:20241027T163140Z
LAST-MODIFIED:20241027T163159Z
UID:4740-1731542400-1731628799@glosoutdoor.co.uk
SUMMARY:Morning walk - Cranham & Ebworth Estate
DESCRIPTION:About 5 miles Cranham Common and Ebworth estate
URL:https://glosoutdoor.co.uk/event/morning-walk-cranham-ebworth-estate/
CATEGORIES:Activities
END:VEVENT
BEGIN:VEVENT
DTSTART;VALUE=DATE:20241110
DTEND;VALUE=DATE:20241111
DTSTAMP:20260422T085331
CREATED:20241027T133052Z
LAST-MODIFIED:20241027T133052Z
UID:4738-1731196800-1731283199@glosoutdoor.co.uk
SUMMARY:Day walk Huntley\, May Hill\, Newent Woods
DESCRIPTION:Some great views of the Severn from the top of May Hill will be on offer today as Sean weaves us through 9 miles\, climbing up May Hill\, and going back down through Newent Woods and Glasshouse.
URL:https://glosoutdoor.co.uk/event/day-walk-huntley-may-hill-newent-woods/
CATEGORIES:Activities
END:VEVENT
BEGIN:VEVENT
DTSTART;VALUE=DATE:20241107
DTEND;VALUE=DATE:20241108
DTSTAMP:20260422T085331
CREATED:20241027T132952Z
LAST-MODIFIED:20241027T132952Z
UID:4736-1730937600-1731023999@glosoutdoor.co.uk
SUMMARY:AGM
DESCRIPTION:The AGM is a chance to meet up\, enjoy some free food and organise the willing volunteers to keep our happy band of wanderers together\, enjoying walks and exploring the countryside for at least the next year. Please come along and have your say.
URL:https://glosoutdoor.co.uk/event/agm/
CATEGORIES:Activities
END:VEVENT
BEGIN:VEVENT
DTSTART;VALUE=DATE:20241103
DTEND;VALUE=DATE:20241104
DTSTAMP:20260422T085331
CREATED:20241027T132845Z
LAST-MODIFIED:20241027T132845Z
UID:4734-1730592000-1730678399@glosoutdoor.co.uk
SUMMARY:Day walk Dursley 9 miles-ish
DESCRIPTION:The woods are full of bluebells in the spring and rich leaf colour in the autumn. A scenic and hilly route from Dursley – around nine miles It may head north to Hetty Peggler’s tump or south to the Tyndale monument.
URL:https://glosoutdoor.co.uk/event/day-walk-dursley-9-miles-ish/
CATEGORIES:Activities
END:VEVENT
BEGIN:VEVENT
DTSTART;VALUE=DATE:20241028
DTEND;VALUE=DATE:20241029
DTSTAMP:20260422T085331
CREATED:20241027T132708Z
LAST-MODIFIED:20241027T132708Z
UID:4732-1730073600-1730159999@glosoutdoor.co.uk
SUMMARY:Ghost walking tour - Gloucester
DESCRIPTION:It’s nearly Halloween. Want to find out more about haunted Gloucester? S is steeling her nerve to book tickets with ‘Ghosts and Giggles’\, a fun 2.5 hour guided walking tour around historic Gloucester\, charting reported ghostly events
URL:https://glosoutdoor.co.uk/event/ghost-walking-tour-gloucester/
CATEGORIES:Activities
END:VEVENT
BEGIN:VEVENT
DTSTART;VALUE=DATE:20241027
DTEND;VALUE=DATE:20241028
DTSTAMP:20260422T085331
CREATED:20241027T132504Z
LAST-MODIFIED:20241027T132504Z
UID:4730-1729987200-1730073599@glosoutdoor.co.uk
SUMMARY:Cirencester circular via Daglingworth
DESCRIPTION:Today’s moderate walk takes in the villages around Cirencester and includes the wonderful water Meadows.
URL:https://glosoutdoor.co.uk/event/cirencester-circular-via-daglingworth/
CATEGORIES:Activities
END:VEVENT
BEGIN:VEVENT
DTSTART;VALUE=DATE:20240804
DTEND;VALUE=DATE:20240805
DTSTAMP:20260422T085331
CREATED:20240330T181514Z
LAST-MODIFIED:20240330T181514Z
UID:4723-1722729600-1722815999@glosoutdoor.co.uk
SUMMARY:Day walk - Donnington Way (part 2) 10 miles
DESCRIPTION:Episode two of the linear adventure: Wick Rissington to Sherborne. Today’s walking on this epic trail\, visiting a large number of Donnington pubs is 10 miles with hydration opportunities en route and at the end at the Post Office (if we make it in time). Still bring food and drink as it’s SUMMER!
URL:https://glosoutdoor.co.uk/event/day-walk-donnington-way-part-2-10-miles/
CATEGORIES:Activities
END:VEVENT
BEGIN:VEVENT
DTSTART;VALUE=DATE:20240802
DTEND;VALUE=DATE:20240803
DTSTAMP:20260422T085331
CREATED:20240330T181416Z
LAST-MODIFIED:20240330T181416Z
UID:4721-1722556800-1722643199@glosoutdoor.co.uk
SUMMARY:Evening walk
DESCRIPTION:It should be a lovely chance to get out on a summer’s evening though\, so watch this space and fingers crossed for fine weather.
URL:https://glosoutdoor.co.uk/event/evening-walk/
CATEGORIES:Activities
END:VEVENT
BEGIN:VEVENT
DTSTART;VALUE=DATE:20240731
DTEND;VALUE=DATE:20240801
DTSTAMP:20260422T085331
CREATED:20240330T181332Z
LAST-MODIFIED:20240330T181332Z
UID:4719-1722384000-1722470399@glosoutdoor.co.uk
SUMMARY:Morning walk - Northleach 5 miles
DESCRIPTION:A delightful walk heading out from the ‘Old Prison’ cafe at Northleach taking in Hampnett and then heading along the tops with fine views into Wiltshire.
URL:https://glosoutdoor.co.uk/event/morning-walk-northleach-5-miles/
CATEGORIES:Activities
END:VEVENT
BEGIN:VEVENT
DTSTART;VALUE=DATE:20240728
DTEND;VALUE=DATE:20240729
DTSTAMP:20260422T085331
CREATED:20240330T181230Z
LAST-MODIFIED:20240330T181230Z
UID:4717-1722124800-1722211199@glosoutdoor.co.uk
SUMMARY:Day walk - Eastleach Turville 7.5 miles
DESCRIPTION:A walk in a pretty and unspoilt corner of the Cotswolds.
URL:https://glosoutdoor.co.uk/event/day-walk-eastleach-turville-7-5-miles/
CATEGORIES:Activities
END:VEVENT
BEGIN:VEVENT
DTSTART;VALUE=DATE:20240726
DTEND;VALUE=DATE:20240727
DTSTAMP:20260422T085331
CREATED:20240330T181125Z
LAST-MODIFIED:20240330T181125Z
UID:4715-1721952000-1722038399@glosoutdoor.co.uk
SUMMARY:Weekday walk - North Woodchester 4 miles
DESCRIPTION:Lovely circular walk from N Woodchester to Selsley\, over Selsley common and returning via South Woodchester. Super great big views\, of course! 
URL:https://glosoutdoor.co.uk/event/weekday-walk-north-woodchester-4-miles/
CATEGORIES:Activities
END:VEVENT
BEGIN:VEVENT
DTSTART;VALUE=DATE:20240725
DTEND;VALUE=DATE:20240726
DTSTAMP:20260422T085331
CREATED:20240330T181021Z
LAST-MODIFIED:20240330T181021Z
UID:4713-1721865600-1721951999@glosoutdoor.co.uk
SUMMARY:Fish and chip eve walk Leckhampton Hill
DESCRIPTION:There’s nothing like earning your supper!  In between times\, we will take a circuitous route to the top to meet our food\, dine with a view and finally descend to the start. Lovely!
URL:https://glosoutdoor.co.uk/event/fish-and-chip-eve-walk-leckhampton-hill/
CATEGORIES:Activities
END:VEVENT
END:VCALENDAR