BEGIN:VCALENDAR
VERSION:2.0
PRODID:-//Gloucestershire Outdoor Walking Group - ECPv6.15.20//NONSGML v1.0//EN
CALSCALE:GREGORIAN
METHOD:PUBLISH
X-WR-CALNAME:Gloucestershire Outdoor Walking Group
X-ORIGINAL-URL:https://glosoutdoor.co.uk
X-WR-CALDESC:Events for Gloucestershire Outdoor Walking Group
REFRESH-INTERVAL;VALUE=DURATION:PT1H
X-Robots-Tag:noindex
X-PUBLISHED-TTL:PT1H
BEGIN:VTIMEZONE
TZID:Europe/London
BEGIN:DAYLIGHT
TZOFFSETFROM:+0000
TZOFFSETTO:+0100
TZNAME:BST
DTSTART:20240331T010000
END:DAYLIGHT
BEGIN:STANDARD
TZOFFSETFROM:+0100
TZOFFSETTO:+0000
TZNAME:GMT
DTSTART:20241027T010000
END:STANDARD
BEGIN:DAYLIGHT
TZOFFSETFROM:+0000
TZOFFSETTO:+0100
TZNAME:BST
DTSTART:20250330T010000
END:DAYLIGHT
BEGIN:STANDARD
TZOFFSETFROM:+0100
TZOFFSETTO:+0000
TZNAME:GMT
DTSTART:20251026T010000
END:STANDARD
BEGIN:DAYLIGHT
TZOFFSETFROM:+0000
TZOFFSETTO:+0100
TZNAME:BST
DTSTART:20260329T010000
END:DAYLIGHT
BEGIN:STANDARD
TZOFFSETFROM:+0100
TZOFFSETTO:+0000
TZNAME:GMT
DTSTART:20261025T010000
END:STANDARD
END:VTIMEZONE
BEGIN:VEVENT
DTSTART;VALUE=DATE:20250803
DTEND;VALUE=DATE:20250804
DTSTAMP:20260424T110422
CREATED:20250418T151917Z
LAST-MODIFIED:20250418T151917Z
UID:4915-1754179200-1754265599@glosoutdoor.co.uk
SUMMARY:Day Walk - Calcot
DESCRIPTION:8 mile walk from Calcot following the banks of the River Coln and enjoying the far reaching views of the Cotswolds from the Salt Path.
URL:https://glosoutdoor.co.uk/event/day-walk-calcot/
CATEGORIES:Activities
END:VEVENT
BEGIN:VEVENT
DTSTART;VALUE=DATE:20250814
DTEND;VALUE=DATE:20250815
DTSTAMP:20260424T110422
CREATED:20250818T203056Z
LAST-MODIFIED:20250818T203056Z
UID:4920-1755129600-1755215999@glosoutdoor.co.uk
SUMMARY:Evening Walk -  Maisemore 4 miles
DESCRIPTION:Circular Walk from Maisemore Church\, along the River Severn\, past the lake and back\, about 4 miles.
URL:https://glosoutdoor.co.uk/event/evening-walk-maisemore-4-miles/
CATEGORIES:Activities
END:VEVENT
BEGIN:VEVENT
DTSTART;VALUE=DATE:20250817
DTEND;VALUE=DATE:20250818
DTSTAMP:20260424T110422
CREATED:20250818T203214Z
LAST-MODIFIED:20250818T203214Z
UID:4922-1755388800-1755475199@glosoutdoor.co.uk
SUMMARY:Day walk - Mickleton 10 miles
DESCRIPTION:Mickleton 10 miles to include Hidcote and Ilmington A walk at the very norther tip of the Cotswolds using the Heart of England way to climb past Kiftsgate Court and onto Hidcote Bartrim before heading north towards Ilmington. 
URL:https://glosoutdoor.co.uk/event/day-walk-mickleton-10-miles/
CATEGORIES:Activities
END:VEVENT
BEGIN:VEVENT
DTSTART;VALUE=DATE:20250819
DTEND;VALUE=DATE:20250820
DTSTAMP:20260424T110422
CREATED:20250818T203644Z
LAST-MODIFIED:20250818T203730Z
UID:4924-1755561600-1755647999@glosoutdoor.co.uk
SUMMARY:Evening Outdoor Film Night
DESCRIPTION:Outdoor film+ picnic – Cheltenham Film Society are showing the classic Cohen brothers’ satirical comedy ‘ Oh Brother\, Where Art Thou?’\, about the adventures of three escaped convicts\, set in 1937 Mississippi.
URL:https://glosoutdoor.co.uk/event/evening-outdoor-film-night/
CATEGORIES:Activities
END:VEVENT
BEGIN:VEVENT
DTSTART;VALUE=DATE:20250821
DTEND;VALUE=DATE:20250822
DTSTAMP:20260424T110422
CREATED:20250818T204327Z
LAST-MODIFIED:20250818T204327Z
UID:4928-1755734400-1755820799@glosoutdoor.co.uk
SUMMARY:Evening Walk - Dowdeswell
DESCRIPTION:Walk through the woods of the nature reserve and up onto the Cotswolds\,  following roads to finally joining the Cotswold Way before returning via the reservoir.\nJust over 4 miles
URL:https://glosoutdoor.co.uk/event/evening-walk-dowdeswell/
CATEGORIES:Activities
END:VEVENT
BEGIN:VEVENT
DTSTART;VALUE=DATE:20250822
DTEND;VALUE=DATE:20250826
DTSTAMP:20260424T110422
CREATED:20250818T204155Z
LAST-MODIFIED:20250818T204155Z
UID:4926-1755820800-1756166399@glosoutdoor.co.uk
SUMMARY:Camping weekend in Shropshire
DESCRIPTION:This large grassy campsite\, which has an evening bar\, breakfast rolls and a friendly atmosphere\, there are camping pods or it’s just under a two hour drive away\, so you could come and join me for a day if camping is not your thing. The campsite offers easy access to walking along the Longmynd\, possibly The Stiperstones and other hilly routes
URL:https://glosoutdoor.co.uk/event/camping-weekend-in-shropshire/
END:VEVENT
BEGIN:VEVENT
DTSTART;VALUE=DATE:20250824
DTEND;VALUE=DATE:20250825
DTSTAMP:20260424T110422
CREATED:20250818T204438Z
LAST-MODIFIED:20250818T204438Z
UID:4930-1755993600-1756079999@glosoutdoor.co.uk
SUMMARY:Day Walk - Somerford Keynes
DESCRIPTION:It is a clockwise walk and almost pancake flat\, passing the edge of Somerford Keynes and walking past many lakes\, through South Cerney\, Ashton Keynes and back along the Thames Path. Quite a bit of the walk is through wooded areas which will be welcome if it is a hot day. There are a few stiles\, but probably no fields containing livestock.\nBring elevenses\, if you want\, and lunch.
URL:https://glosoutdoor.co.uk/event/day-walk-somerford-keynes-2/
CATEGORIES:Activities
END:VEVENT
BEGIN:VEVENT
DTSTART;VALUE=DATE:20250828
DTEND;VALUE=DATE:20250829
DTSTAMP:20260424T110422
CREATED:20250818T204557Z
LAST-MODIFIED:20250818T204557Z
UID:4932-1756339200-1756425599@glosoutdoor.co.uk
SUMMARY:Evening Walk - Leckhampton
DESCRIPTION:Make the most of summer evening. Climbing through the woods to bypass the Devil’s Chimney. Bring a torch it can be dark in the trees
URL:https://glosoutdoor.co.uk/event/evening-walk-leckhampton/
CATEGORIES:Activities
END:VEVENT
BEGIN:VEVENT
DTSTART;VALUE=DATE:20250831
DTEND;VALUE=DATE:20250901
DTSTAMP:20260424T110422
CREATED:20250818T204704Z
LAST-MODIFIED:20250818T204704Z
UID:4934-1756598400-1756684799@glosoutdoor.co.uk
SUMMARY:Day walk - Donnington way
DESCRIPTION:This is it! The final 10 miles of the epic pub trail. A short journey to Barton on the Heath to start. Option for a slap up meal at the pub to celebrate! (pre-order on the day!)
URL:https://glosoutdoor.co.uk/event/day-walk-donnington-way-2/
CATEGORIES:Activities
END:VEVENT
END:VCALENDAR