BEGIN:VCALENDAR
VERSION:2.0
PRODID:-//Gloucestershire Outdoor Walking Group - ECPv6.15.20//NONSGML v1.0//EN
CALSCALE:GREGORIAN
METHOD:PUBLISH
X-WR-CALNAME:Gloucestershire Outdoor Walking Group
X-ORIGINAL-URL:https://glosoutdoor.co.uk
X-WR-CALDESC:Events for Gloucestershire Outdoor Walking Group
REFRESH-INTERVAL;VALUE=DURATION:PT1H
X-Robots-Tag:noindex
X-PUBLISHED-TTL:PT1H
BEGIN:VTIMEZONE
TZID:Europe/London
BEGIN:DAYLIGHT
TZOFFSETFROM:+0000
TZOFFSETTO:+0100
TZNAME:BST
DTSTART:20240331T010000
END:DAYLIGHT
BEGIN:STANDARD
TZOFFSETFROM:+0100
TZOFFSETTO:+0000
TZNAME:GMT
DTSTART:20241027T010000
END:STANDARD
BEGIN:DAYLIGHT
TZOFFSETFROM:+0000
TZOFFSETTO:+0100
TZNAME:BST
DTSTART:20250330T010000
END:DAYLIGHT
BEGIN:STANDARD
TZOFFSETFROM:+0100
TZOFFSETTO:+0000
TZNAME:GMT
DTSTART:20251026T010000
END:STANDARD
BEGIN:DAYLIGHT
TZOFFSETFROM:+0000
TZOFFSETTO:+0100
TZNAME:BST
DTSTART:20260329T010000
END:DAYLIGHT
BEGIN:STANDARD
TZOFFSETFROM:+0100
TZOFFSETTO:+0000
TZNAME:GMT
DTSTART:20261025T010000
END:STANDARD
END:VTIMEZONE
BEGIN:VEVENT
DTSTART;VALUE=DATE:20250904
DTEND;VALUE=DATE:20250905
DTSTAMP:20260425T123027
CREATED:20250818T204806Z
LAST-MODIFIED:20250818T204806Z
UID:4936-1756944000-1757030399@glosoutdoor.co.uk
SUMMARY:Evening Walk - Winchcombe
DESCRIPTION:Meet at Back Lane car park\, Winchcombe GL54 5PZ for a hilly jaunt to build up a thirst. Good views guaranteed and trip to a tavern after\, for those inclined.
URL:https://glosoutdoor.co.uk/event/evening-walk-winchcombe/
CATEGORIES:Activities
END:VEVENT
BEGIN:VEVENT
DTSTART;VALUE=DATE:20250907
DTEND;VALUE=DATE:20250908
DTSTAMP:20260425T123027
CREATED:20250818T205003Z
LAST-MODIFIED:20250818T205003Z
UID:4938-1757203200-1757289599@glosoutdoor.co.uk
SUMMARY:Day Walk - Eastcombe & Bussage 10 Miles
DESCRIPTION:Starting at Eastcombe\, the walk goes north to Bisley picking up the Wysis Way and eventually heading south again through Fennells Farm\, home of Giffords Circus\, coming back into Eastcombe through Toadsmoor Valley.
URL:https://glosoutdoor.co.uk/event/day-walk-eastcombe-bussage-10-miles/
CATEGORIES:Activities
END:VEVENT
BEGIN:VEVENT
DTSTART;VALUE=DATE:20250911
DTEND;VALUE=DATE:20250912
DTSTAMP:20260425T123027
CREATED:20250818T205140Z
LAST-MODIFIED:20250818T205140Z
UID:4940-1757548800-1757635199@glosoutdoor.co.uk
SUMMARY:Evening Walk - Cockleford 5 miles
DESCRIPTION: Start at the Green Dragon\,  Cockleford\, skirting Upper Coberley and Coberley. Pass through Cowley and return to the Green Dragon. Steady climb lovely views. On the journey spot a chandelier hanging from a tree\, pass sheep (possibly)\, view animals creatively made of metal and an alpaca farm (real alpacas). Back to the Green Dragon for refreshment.
URL:https://glosoutdoor.co.uk/event/evening-walk-cockleford-5-miles/
CATEGORIES:Activities
END:VEVENT
BEGIN:VEVENT
DTSTART;VALUE=DATE:20250914
DTEND;VALUE=DATE:20250915
DTSTAMP:20260425T123027
CREATED:20250818T205304Z
LAST-MODIFIED:20250818T205304Z
UID:4942-1757808000-1757894399@glosoutdoor.co.uk
SUMMARY:Frampton Fair
DESCRIPTION:The UK’s best one day fair on our doorstep in the grounds of Frampton Court Estate. Three Rings of entertainment from tent pegging relay race\, wood chopping battles\, ferret racing\, Young Farmers Tractor push/pull competition\, rural crafts\, fly fishing. Check out their website (framptoncountryfair.co.uk) and book yourself a ticket
URL:https://glosoutdoor.co.uk/event/frampton-fair/
CATEGORIES:Activities
END:VEVENT
BEGIN:VEVENT
DTSTART;VALUE=DATE:20250918
DTEND;VALUE=DATE:20250919
DTSTAMP:20260425T123027
CREATED:20250818T205533Z
LAST-MODIFIED:20250818T205533Z
UID:4944-1758153600-1758239999@glosoutdoor.co.uk
SUMMARY:Planning Meeting
DESCRIPTION:Come along for a social evening to help plan what the group does in the next 4 months
URL:https://glosoutdoor.co.uk/event/planning-meeting/
CATEGORIES:Activities
END:VEVENT
BEGIN:VEVENT
DTSTART;VALUE=DATE:20250921
DTEND;VALUE=DATE:20250922
DTSTAMP:20260425T123027
CREATED:20250818T205625Z
LAST-MODIFIED:20250818T205625Z
UID:4946-1758412800-1758499199@glosoutdoor.co.uk
SUMMARY:Day Walk - Twyning
DESCRIPTION:A 10 mile flat walk from Twyning\, following the River Avon to Tewkesbury\, then following the River Severn northwards\, before cutting back across to Twyning.
URL:https://glosoutdoor.co.uk/event/day-walk-twyning/
CATEGORIES:Activities
END:VEVENT
BEGIN:VEVENT
DTSTART;VALUE=DATE:20250925
DTEND;VALUE=DATE:20250926
DTSTAMP:20260425T123027
CREATED:20250818T205830Z
LAST-MODIFIED:20250818T205830Z
UID:4948-1758758400-1758844799@glosoutdoor.co.uk
SUMMARY:Day walk - Eastcombe & Bussage
DESCRIPTION:Bisley – Eastcombe 5.2 miles start from Windyridge
URL:https://glosoutdoor.co.uk/event/day-walk-eastcombe-bussage/
CATEGORIES:Activities
END:VEVENT
BEGIN:VEVENT
DTSTART;VALUE=DATE:20250928
DTEND;VALUE=DATE:20250929
DTSTAMP:20260425T123027
CREATED:20250818T210013Z
LAST-MODIFIED:20250818T210013Z
UID:4950-1759017600-1759103999@glosoutdoor.co.uk
SUMMARY:Day Walk - Black Mountains
DESCRIPTION:A 10.75 mile walk starting at Cwmdu Village Hall at 10am (£1 per car). The route includes 3 significant climbs & 3\,200ft ascent\, Mynydd Llangorse\, Cockit Hill\, Mynydd Troed\, Cwm Sorgwm\, Pen Tir and then retrace to Cwmdu.
URL:https://glosoutdoor.co.uk/event/day-walk-black-mountains/
CATEGORIES:Activities
END:VEVENT
END:VCALENDAR