BEGIN:VCALENDAR
VERSION:2.0
PRODID:-//Gloucestershire Outdoor Walking Group - ECPv6.15.20//NONSGML v1.0//EN
CALSCALE:GREGORIAN
METHOD:PUBLISH
X-WR-CALNAME:Gloucestershire Outdoor Walking Group
X-ORIGINAL-URL:https://glosoutdoor.co.uk
X-WR-CALDESC:Events for Gloucestershire Outdoor Walking Group
REFRESH-INTERVAL;VALUE=DURATION:PT1H
X-Robots-Tag:noindex
X-PUBLISHED-TTL:PT1H
BEGIN:VTIMEZONE
TZID:Europe/London
BEGIN:DAYLIGHT
TZOFFSETFROM:+0000
TZOFFSETTO:+0100
TZNAME:BST
DTSTART:20240331T010000
END:DAYLIGHT
BEGIN:STANDARD
TZOFFSETFROM:+0100
TZOFFSETTO:+0000
TZNAME:GMT
DTSTART:20241027T010000
END:STANDARD
BEGIN:DAYLIGHT
TZOFFSETFROM:+0000
TZOFFSETTO:+0100
TZNAME:BST
DTSTART:20250330T010000
END:DAYLIGHT
BEGIN:STANDARD
TZOFFSETFROM:+0100
TZOFFSETTO:+0000
TZNAME:GMT
DTSTART:20251026T010000
END:STANDARD
BEGIN:DAYLIGHT
TZOFFSETFROM:+0000
TZOFFSETTO:+0100
TZNAME:BST
DTSTART:20260329T010000
END:DAYLIGHT
BEGIN:STANDARD
TZOFFSETFROM:+0100
TZOFFSETTO:+0000
TZNAME:GMT
DTSTART:20261025T010000
END:STANDARD
BEGIN:DAYLIGHT
TZOFFSETFROM:+0000
TZOFFSETTO:+0100
TZNAME:BST
DTSTART:20270328T010000
END:DAYLIGHT
BEGIN:STANDARD
TZOFFSETFROM:+0100
TZOFFSETTO:+0000
TZNAME:GMT
DTSTART:20271031T010000
END:STANDARD
END:VTIMEZONE
BEGIN:VEVENT
DTSTART;VALUE=DATE:20251204
DTEND;VALUE=DATE:20251205
DTSTAMP:20260421T000804
CREATED:20251124T205942Z
LAST-MODIFIED:20251124T205942Z
UID:5062-1764806400-1764892799@glosoutdoor.co.uk
SUMMARY:Day walk - Arlingham
DESCRIPTION:5 miles
URL:https://glosoutdoor.co.uk/event/day-walk-arlingham/
CATEGORIES:Activities
END:VEVENT
BEGIN:VEVENT
DTSTART;VALUE=DATE:20251205
DTEND;VALUE=DATE:20251206
DTSTAMP:20260421T000804
CREATED:20251124T210237Z
LAST-MODIFIED:20251124T210237Z
UID:5065-1764892800-1764979199@glosoutdoor.co.uk
SUMMARY:Christmas meal
DESCRIPTION:
URL:https://glosoutdoor.co.uk/event/christmas-meal-2/
CATEGORIES:Activities
END:VEVENT
BEGIN:VEVENT
DTSTART;VALUE=DATE:20251211
DTEND;VALUE=DATE:20251212
DTSTAMP:20260421T000804
CREATED:20251124T210523Z
LAST-MODIFIED:20251124T210523Z
UID:5069-1765411200-1765497599@glosoutdoor.co.uk
SUMMARY:Music evening
DESCRIPTION:An evening of 1940’s-50’s Paris cafe vintage swing quartet music at the Roses Theatre Tewkesbury
URL:https://glosoutdoor.co.uk/event/music-evening/
CATEGORIES:Activities
END:VEVENT
BEGIN:VEVENT
DTSTART;VALUE=DATE:20251214
DTEND;VALUE=DATE:20251215
DTSTAMP:20260421T000804
CREATED:20251124T210627Z
LAST-MODIFIED:20251124T210627Z
UID:5071-1765670400-1765756799@glosoutdoor.co.uk
SUMMARY:Day Walk - Minchinhampton 8 miles
DESCRIPTION:Circular walk visiting the pretty village of Box\, then Minchinhampton & Rodborough Commons for great walking & lovely views. Approximately 8 stiles & a few moderate ascents.
URL:https://glosoutdoor.co.uk/event/day-walk-minchinhampton-8-miles/
CATEGORIES:Activities
END:VEVENT
BEGIN:VEVENT
DTSTART;VALUE=DATE:20251217
DTEND;VALUE=DATE:20251218
DTSTAMP:20260421T000804
CREATED:20251124T210754Z
LAST-MODIFIED:20251215T214235Z
UID:5073-1765929600-1766015999@glosoutdoor.co.uk
SUMMARY:Day walk - North & South Woodchester 4 miles
DESCRIPTION:Walk through the villages of South and North Woodchester where in the past there were a number of mills\, visit the site of the Roman villa and Orpheus mosaic. Walking through the villages\, woods and fields.
URL:https://glosoutdoor.co.uk/event/day-walk-aston-down/
CATEGORIES:Activities
END:VEVENT
BEGIN:VEVENT
DTSTART;VALUE=DATE:20251218
DTEND;VALUE=DATE:20251219
DTSTAMP:20260421T000804
CREATED:20251124T210956Z
LAST-MODIFIED:20251124T210956Z
UID:5075-1766016000-1766102399@glosoutdoor.co.uk
SUMMARY:Mulled Wine Evening
DESCRIPTION:Chillax: It’s nearly Xmas! Join the group in Cheltenham for log fires\, mulled wine\, good food\, and a Christmas quiz. Swap present ideas and stories of holiday plans
URL:https://glosoutdoor.co.uk/event/mulled-wine-evening/
CATEGORIES:Activities
END:VEVENT
BEGIN:VEVENT
DTSTART;VALUE=DATE:20251221
DTEND;VALUE=DATE:20251222
DTSTAMP:20260421T000804
CREATED:20251124T211526Z
LAST-MODIFIED:20251124T211526Z
UID:5077-1766275200-1766361599@glosoutdoor.co.uk
SUMMARY:Day walk and picnic
DESCRIPTION:A 6.5 mile walk in the Painswick area with a traditional bring and share festive picnic in the shelter of the Sheepscombe Cricket pavilion. A great  ramble through the woods to share some Christmas treats before staggering back to Painswick. Seriously\, a great annual event and a must for any hardy member. Bring something to share and plenty of cheer
URL:https://glosoutdoor.co.uk/event/day-walk-and-picnic/
CATEGORIES:Activities
END:VEVENT
BEGIN:VEVENT
DTSTART;VALUE=DATE:20251227
DTEND;VALUE=DATE:20260104
DTSTAMP:20260421T000804
CREATED:20251124T211636Z
LAST-MODIFIED:20251124T211636Z
UID:5079-1766793600-1767484799@glosoutdoor.co.uk
SUMMARY:New year trip - Yorkshire dales
DESCRIPTION:
URL:https://glosoutdoor.co.uk/event/new-year-trip-yorkshire-dales/
CATEGORIES:Activities
END:VEVENT
END:VCALENDAR